BEGIN:VCALENDAR
VERSION:2.0
PRODID:-//Mútua dos Pescadores - ECPv6.15.20//NONSGML v1.0//EN
CALSCALE:GREGORIAN
METHOD:PUBLISH
X-ORIGINAL-URL:https://www.mutuapescadores.pt
X-WR-CALDESC:Eventos para Mútua dos Pescadores
REFRESH-INTERVAL;VALUE=DURATION:PT1H
X-Robots-Tag:noindex
X-PUBLISHED-TTL:PT1H
BEGIN:VTIMEZONE
TZID:Europe/Lisbon
BEGIN:DAYLIGHT
TZOFFSETFROM:+0000
TZOFFSETTO:+0100
TZNAME:WEST
DTSTART:20250330T010000
END:DAYLIGHT
BEGIN:STANDARD
TZOFFSETFROM:+0100
TZOFFSETTO:+0000
TZNAME:WET
DTSTART:20251026T010000
END:STANDARD
BEGIN:DAYLIGHT
TZOFFSETFROM:+0000
TZOFFSETTO:+0100
TZNAME:WEST
DTSTART:20260329T010000
END:DAYLIGHT
BEGIN:STANDARD
TZOFFSETFROM:+0100
TZOFFSETTO:+0000
TZNAME:WET
DTSTART:20261025T010000
END:STANDARD
BEGIN:DAYLIGHT
TZOFFSETFROM:+0000
TZOFFSETTO:+0100
TZNAME:WEST
DTSTART:20270328T010000
END:DAYLIGHT
BEGIN:STANDARD
TZOFFSETFROM:+0100
TZOFFSETTO:+0000
TZNAME:WET
DTSTART:20271031T010000
END:STANDARD
END:VTIMEZONE
BEGIN:VEVENT
DTSTART;TZID=Europe/Lisbon:20260329T093000
DTEND;TZID=Europe/Lisbon:20260329T130000
DTSTAMP:20260422T095100
CREATED:20260312T200548Z
LAST-MODIFIED:20260312T201036Z
UID:17365-1774776600-1774789200@www.mutuapescadores.pt
SUMMARY:Assembleia Geral da Mútua dos Pescadores
DESCRIPTION:Lisboa\, 29 de março de 2026\, pelas 9h30 horas\nNo próximo dia 29 de março todos os cooperadores estão convocados para a Assembleia Geral da sua Cooperativa de Utentes de Seguros! \nA Assembleia decorre no Hotel 3K Barcelona\, sito à R. Laura Alves n.º 10\, Lisboa\, com a seguinte \nOrdem de Trabalhos:\n1.º – Apreciação\, discussão e votação da proposta de Relatório de Gestão\, documentos de prestação de contas\, parecer do Conselho Fiscal e respetivas conclusões\, referentes ao exercício de 2025; \n2.º – Apreciação\, discussão e votação da proposta de aplicação dos resultados; \n3.º – Apreciação\, discussão e votação da proposta de transferência do valor de quatro milhões de euros da rubrica de Resultados Transitados para a conta Reservas Livres; \n4.º – Apreciação\, discussão e votação da proposta para o aumento do capital social da Cooperativa\, por incorporação de reservas livres; \n5.º – Apreciação\, discussão e votação da proposta de alteração dos Estatutos\, no que diz respeito ao capital social (n.º 1 do artigo 7.º); \n6.º – Apreciação\, discussão e votação da proposta de aplicação do Fundo de Reserva para a educação cooperativa e formação cultural e técnica dos cooperadores\, trabalhadores e comunidade; \n7.º – Apreciação\, discussão e votação sobre o Relatório de Avaliação da Política de Remuneração; \n8.º – Apreciação\, discussão e votação da proposta do Conselho Fiscal para designação do Revisor Oficial de Contas para o biénio 2026-2027; \n9.º – Apreciação\, discussão e votação da proposta de Política de Seleção e Avaliação; \n10.º – Apreciação\, discussão e votação da proposta de dispensa de caução dos membros do Conselho de Administração; \n11.º – Outros Assuntos relevantes.\n\n CONVOCATÓRIA
URL:https://www.mutuapescadores.pt/event/assembleia-geral-da-mutua-dos-pescadores-6/
CATEGORIES:Eventos
END:VEVENT
END:VCALENDAR