BEGIN:VCALENDAR
VERSION:2.0
PRODID:-//Mútua dos Pescadores - ECPv6.15.20//NONSGML v1.0//EN
CALSCALE:GREGORIAN
METHOD:PUBLISH
X-WR-CALNAME:Mútua dos Pescadores
X-ORIGINAL-URL:https://www.mutuapescadores.pt
X-WR-CALDESC:Eventos para Mútua dos Pescadores
REFRESH-INTERVAL;VALUE=DURATION:PT1H
X-Robots-Tag:noindex
X-PUBLISHED-TTL:PT1H
BEGIN:VTIMEZONE
TZID:Europe/Lisbon
BEGIN:DAYLIGHT
TZOFFSETFROM:+0000
TZOFFSETTO:+0100
TZNAME:WEST
DTSTART:20250330T010000
END:DAYLIGHT
BEGIN:STANDARD
TZOFFSETFROM:+0100
TZOFFSETTO:+0000
TZNAME:WET
DTSTART:20251026T010000
END:STANDARD
BEGIN:DAYLIGHT
TZOFFSETFROM:+0000
TZOFFSETTO:+0100
TZNAME:WEST
DTSTART:20260329T010000
END:DAYLIGHT
BEGIN:STANDARD
TZOFFSETFROM:+0100
TZOFFSETTO:+0000
TZNAME:WET
DTSTART:20261025T010000
END:STANDARD
BEGIN:DAYLIGHT
TZOFFSETFROM:+0000
TZOFFSETTO:+0100
TZNAME:WEST
DTSTART:20270328T010000
END:DAYLIGHT
BEGIN:STANDARD
TZOFFSETFROM:+0100
TZOFFSETTO:+0000
TZNAME:WET
DTSTART:20271031T010000
END:STANDARD
END:VTIMEZONE
BEGIN:VEVENT
DTSTART;VALUE=DATE:20260311
DTEND;VALUE=DATE:20260313
DTSTAMP:20260422T094659
CREATED:20260218T165426Z
LAST-MODIFIED:20260218T165426Z
UID:17260-1773187200-1773359999@www.mutuapescadores.pt
SUMMARY:Conferência “RISCOS GLOBAIS – Prevenir para Proteger”
DESCRIPTION:A revista “Segurança”\, com a qual a Mútua dos Pescadores tem uma colaboração de longa data\, vai organizar a 2ª Conferência sobre “RISCOS GLOBAIS – Prevenir para Proteger”\, nos dias 11 e 12 de março\, na Universidade da Maia. \nForam convidados vários especialistas nas diversas áreas para contribuírem para o debate e ajudarem a entender de que modo é possível minimizar os efeitos que as alterações climáticas têm no nosso território e na vida das nossas populações. \nA conferência conta também com a participação de Joaquim Simplício\, Administrador da Mútua dos Pescadores\, dia 12 de março\, às 15h15\, sob o tema “Mar de Riscos”. \nFace aos recentes acontecimentos no país\, devastado por sucessivas tempestades\, consideramos que este evento é de extrema relevância. Apelamos à participação de todos! \nPrograma e inscrições aqui
URL:https://www.mutuapescadores.pt/event/conferencia-riscos-globais-prevenir-para-proteger/
CATEGORIES:Eventos
END:VEVENT
END:VCALENDAR