BEGIN:VCALENDAR
VERSION:2.0
PRODID:-//Mútua dos Pescadores - ECPv6.15.20//NONSGML v1.0//EN
CALSCALE:GREGORIAN
METHOD:PUBLISH
X-WR-CALNAME:Mútua dos Pescadores
X-ORIGINAL-URL:https://www.mutuapescadores.pt
X-WR-CALDESC:Eventos para Mútua dos Pescadores
REFRESH-INTERVAL;VALUE=DURATION:PT1H
X-Robots-Tag:noindex
X-PUBLISHED-TTL:PT1H
BEGIN:VTIMEZONE
TZID:Europe/Lisbon
BEGIN:DAYLIGHT
TZOFFSETFROM:+0000
TZOFFSETTO:+0100
TZNAME:WEST
DTSTART:20240331T010000
END:DAYLIGHT
BEGIN:STANDARD
TZOFFSETFROM:+0100
TZOFFSETTO:+0000
TZNAME:WET
DTSTART:20241027T010000
END:STANDARD
BEGIN:DAYLIGHT
TZOFFSETFROM:+0000
TZOFFSETTO:+0100
TZNAME:WEST
DTSTART:20250330T010000
END:DAYLIGHT
BEGIN:STANDARD
TZOFFSETFROM:+0100
TZOFFSETTO:+0000
TZNAME:WET
DTSTART:20251026T010000
END:STANDARD
BEGIN:DAYLIGHT
TZOFFSETFROM:+0000
TZOFFSETTO:+0100
TZNAME:WEST
DTSTART:20260329T010000
END:DAYLIGHT
BEGIN:STANDARD
TZOFFSETFROM:+0100
TZOFFSETTO:+0000
TZNAME:WET
DTSTART:20261025T010000
END:STANDARD
END:VTIMEZONE
BEGIN:VEVENT
DTSTART;VALUE=DATE:20251110
DTEND;VALUE=DATE:20251117
DTSTAMP:20260421T221432
CREATED:20251111T150506Z
LAST-MODIFIED:20251112T100724Z
UID:16557-1762732800-1763337599@www.mutuapescadores.pt
SUMMARY:Semana do Mar
DESCRIPTION:A Mútua destaca a Semana do Mar 2025\, promovida pelo Ministério da Agricultura e Mar em parceria com várias entidades.\n“Esta iniciativa visa promover a identidade marítima de Portugal junto da sociedade\, destacando o Mar Português como um recurso estratégico que importa conservar\, conhecer\, potenciar e defender.” \nA Mútua destaca a Semana do Mar 2025\, promovida pelo Ministério da Agricultura e Mar em parceria com várias entidades.\n“Esta iniciativa visa promover a identidade marítima de Portugal junto da sociedade\, destacando o Mar Português como um recurso estratégico que importa conservar\, conhecer\, potenciar e defender.” \nA Semana do Mar decorre de 10 a 16 de novembro em vários locais\, de norte a sul do país\, destacando-se a 4.ª edição do Congresso da Pequena Pesca\, que terá lugar em Matosinhos\, dia 15 de novembro\, sob o tema “Apoio à Pesca e Jovens Pescadores”. \nCom o apoio do Ministério da Agricultura e Mar\, da Câmara Municipal de Matosinhos e em parceria com a WWF Portugal\, a Docapesca organiza o 4.º Congresso da Pequena Pesca\, com o objetivo de promover um debate aberto e construtivo sobre os desafios e oportunidades do setor da pequena pesca\, destacando-se ainda a abertura do novo Gabinete de Apoio ao Pescador. \nA Mútua acompanha a iniciativa desde a primeira edição\, em 2022\, em Quarteira e não faltará de novo à chamada. \nAcompanhe aqui o 4.º Congresso da Pequena Pesca:\nhttps://www.docapesca.pt/pt/artigos/4-edicao-do-congresso-da-pequena-pesca \nOutras informações sobre a Semana do Mar:\nhttps://www.nauticapress.com/semana-do-mar-2025-10-a-16-de-novembro/
URL:https://www.mutuapescadores.pt/event/semana-do-mar/
CATEGORIES:Eventos
END:VEVENT
END:VCALENDAR