BEGIN:VCALENDAR
VERSION:2.0
PRODID:-//Mútua dos Pescadores - ECPv6.15.20//NONSGML v1.0//EN
CALSCALE:GREGORIAN
METHOD:PUBLISH
X-ORIGINAL-URL:https://www.mutuapescadores.pt
X-WR-CALDESC:Eventos para Mútua dos Pescadores
REFRESH-INTERVAL;VALUE=DURATION:PT1H
X-Robots-Tag:noindex
X-PUBLISHED-TTL:PT1H
BEGIN:VTIMEZONE
TZID:Europe/Lisbon
BEGIN:DAYLIGHT
TZOFFSETFROM:+0000
TZOFFSETTO:+0100
TZNAME:WEST
DTSTART:20240331T010000
END:DAYLIGHT
BEGIN:STANDARD
TZOFFSETFROM:+0100
TZOFFSETTO:+0000
TZNAME:WET
DTSTART:20241027T010000
END:STANDARD
BEGIN:DAYLIGHT
TZOFFSETFROM:+0000
TZOFFSETTO:+0100
TZNAME:WEST
DTSTART:20250330T010000
END:DAYLIGHT
BEGIN:STANDARD
TZOFFSETFROM:+0100
TZOFFSETTO:+0000
TZNAME:WET
DTSTART:20251026T010000
END:STANDARD
BEGIN:DAYLIGHT
TZOFFSETFROM:+0000
TZOFFSETTO:+0100
TZNAME:WEST
DTSTART:20260329T010000
END:DAYLIGHT
BEGIN:STANDARD
TZOFFSETFROM:+0100
TZOFFSETTO:+0000
TZNAME:WET
DTSTART:20261025T010000
END:STANDARD
END:VTIMEZONE
BEGIN:VEVENT
DTSTART;TZID=Europe/Lisbon:20250330T100000
DTEND;TZID=Europe/Lisbon:20250330T170000
DTSTAMP:20260421T183136
CREATED:20250106T125239Z
LAST-MODIFIED:20250329T140451Z
UID:15249-1743328800-1743354000@www.mutuapescadores.pt
SUMMARY:Assembleia Geral Eleitoral da Mútua dos Pescadores
DESCRIPTION:30 de março de 2025 em vários locais\nEm março de 2025 terão lugar as eleições para os órgãos sociais da Mútua dos Pescadores\, mandato de 2025 a 2028. \nParticipe na vida da sua cooperativa tão singular\, que aos 82 anos\, revela uma enorme capacidade de inovação e resiliência.\nConsulte o caderno eleitoral no balcão mais perto de si e saiba qual a sua mesa de voto\, entre as 28 mesas espalhadas por vários locais do território nacional\, no Continente e Ilhas. \nCaso não possa deslocar-se à sua mesa de voto\, saiba antecipadamente como pode votar. \nEnvie um e-mail para o geral@mutuapescadores.pt\, com o seu nome e número de contribuinte\, ou dirija-se ao balcão mais próximo de si. \nASSEMBLEIA GERAL ELEITORAL\nC O N V O C A T Ó R I A \nAo abrigo da alínea a) do Art.º 33.º dos Estatutos\, convoco a Assembleia Geral Eleitoral da Mútua dos Pescadores – Mútua de Seguros\, C.R.L.\, com sede na Av. Santos Dumont n.º 57\, 6.º\, 7.º e 8.º\, 1050-202 Lisboa\, pessoa coletiva n.º 500 726 477\, com o capital social variável\, mínimo de 6.000.000 euros\, para reunir no próximo dia 30 de março de 2025\, com início às 10.00 horas e termo às 17.00 horas\, nos locais abaixo indicados e com a seguinte Ordem de Trabalhos: \nPonto Único: Eleição da Mesa da Assembleia Geral e dos Órgãos Sociais (Conselho de Administração\, Conselho Fiscal\, Comissão de Avaliação e Vencimentos e Conselhos Regionais). \n Download Convocatória em PDF (com locais de voto)\n\nHorário de votação: entre as 10h00 e as 17h00 \nMesas de voto:\n\n\n\n\nN.º\nMesa\nMorada\n\n\n01\nViana do Castelo\nDependência da Mútua\nRua de Altamira\, 44\, 4900-337 Viana do Castelo\n\n\n02\nVila do Conde/ Póvoa de Varzim\nDependência da Mútua\nAv. Infante D. Henriques\, 1340\, 4480-670 Vila do Conde\n\n\n03\nMatosinhos\nDependência da Mútua\nRua Brito e Cunha\, 325\, 4450-087 Matosinhos\n\n\n04\nGafanha da Nazaré/Aveiro\nDependência da Mútua\nAvenida José Estevão\, 595-A\, R/C Esq.\, 3830-555 Gafanha da Nazaré\n\n\n05\nFigueira da Foz\nArmazém de Aprestos de Pesca n.º 4\nPorto de Pesca – Cabedelo\, 3090-661 Figueira da Foz\n\n\n06\nNazaré\nDependência da Mútua\nAv. Manuel Remígio\, Edifício Foz\, 2450-106 Nazaré\n\n\n07\nPeniche\nDependência da Mútua\nAv. Porto Pesca\, Edifício Mútua dos Pescadores\, 2520-208 Peniche\n\n\n08\nEriceira\nAPPER\nTravessa da Calçada do Norte\, 2\, 2655-339 Ericeira\n\n\n09\nLisboa\nSede da Mútua\nAv. Santos Dumont\, 57\, 6.º piso\, 1050-202 Lisboa\n\n\n10\nCosta da Caparica\nGrupo “Amigos da Costa” – Ala-Ala Associação de Pesca\nRua Serafim Martins\, 2825-409 Costa de Caparica\n\n\n11\nSesimbra\nDependência da Mútua\nAv. da Liberdade\, 37-E\, 2970-635 Sesimbra\n\n\n12\nSetúbal\nDependência da Mútua\nRua João de Deus\, 5-C\, 2900-412 Setúbal\n\n\n13\nSines\nDependência da Mútua\nRua Marquês de Pombal\, 64-A\, 7520-225 Sines\n\n\n14\nSagres\nAssociação de Armadores Pesca de Sagres\nPorto da Baleeira\, Edifício da DocaPesca\, 8650-350 Sagres\n\n\n15\nPortimão\nDependência da Mútua\nLargo Francisco António Maurício\, 7\, 1.º A\, 8500-535 Portimão\n\n\n16\nQuarteira\nQuarpesca – Ass. Armadores e Pescadores de Quarteira\nUrbanização Quinta do Romão\, Lote FM 5\, Edifício Orca\, Loja AF\, 8125-301 Quarteira\n\n\n17\nOlhão\nDependência da Mútua\nRua do Caminho de Ferro\, 4\, 8700-425 Olhão\n\n\n18\nSanta Luzia\nJunta de Freguesia de Santa Luzia\nRua de Angola\, 53\, 8800-539 Santa Luzia\n\n\n19\nFunchal (Madeira)\nDependência da Mútua\nRua 5 de Outubro\, 22\, 9000-079 Funchal\n\n\n20\nVila do Porto      (Sta. Maria)\nAssociação de Pescadores Ilha de Santa Maria\nCais de Vila do Porto\, 9580 Vila do Porto\n\n\n21\nPonta Delgada       (S. Miguel)\nDependência da Mútua\nRua de Lisboa\, 50\, 9500-216 Ponta Delgada\n\n\n22\nS. Mateus da Calheta (Terceira)\nCooperativa dos Armadores Terceirenses\, CRL\nRua do Porto\, Entreposto Frigorífico\, 9700-555 São Mateus da Calheta\n\n\n23\nPraia (Graciosa)\nAssociação de Pescadores Graciosenses\nPorto de Pesca Vila da Praia\, 9880-280 São Mateus\n\n\n24\nVelas (S. Jorge)\nAssociação de Pescadores da Ilha de S. Jorge\nAvenida da Conceição\, 9800-521 Velas\n\n\n25\nMadalena (Pico)\nAssociação de Armadores da Pesca Artesanal do Pico\nAv. Machado Serpa\, 32-A\, Edifício de Apoio às Pescas\, 9950-321 Madalena\n\n\n26\nHorta (Faial)\nDependência da Mútua\nRua Nova\, 1\, 9900-023 Horta\n\n\n27\nSanta Cruz das Flores (Flores)\nAssociação de Pescadores e Armadores da Ilha das Flores\nRua do Porto Velho\, 9970-337 Santa Cruz das Flores\n\n\n28\nCorvo (Corvo)\nAssociação de Pescadores da Ilha do Corvo\nAvenida Nova\, 9980 Corvo\n\n\n\n\n\nImagem de arquivo\, de Joaquim Correia\n 
URL:https://www.mutuapescadores.pt/event/assembleia-geral-eleitoral-da-mutua-dos-pescadores/
CATEGORIES:Eventos
END:VEVENT
END:VCALENDAR