BEGIN:VCALENDAR
VERSION:2.0
PRODID:-//Mútua dos Pescadores - ECPv6.15.20//NONSGML v1.0//EN
CALSCALE:GREGORIAN
METHOD:PUBLISH
X-ORIGINAL-URL:https://www.mutuapescadores.pt
X-WR-CALDESC:Eventos para Mútua dos Pescadores
REFRESH-INTERVAL;VALUE=DURATION:PT1H
X-Robots-Tag:noindex
X-PUBLISHED-TTL:PT1H
BEGIN:VTIMEZONE
TZID:Europe/Lisbon
BEGIN:DAYLIGHT
TZOFFSETFROM:+0000
TZOFFSETTO:+0100
TZNAME:WEST
DTSTART:20230326T010000
END:DAYLIGHT
BEGIN:STANDARD
TZOFFSETFROM:+0100
TZOFFSETTO:+0000
TZNAME:WET
DTSTART:20231029T010000
END:STANDARD
BEGIN:DAYLIGHT
TZOFFSETFROM:+0000
TZOFFSETTO:+0100
TZNAME:WEST
DTSTART:20240331T010000
END:DAYLIGHT
BEGIN:STANDARD
TZOFFSETFROM:+0100
TZOFFSETTO:+0000
TZNAME:WET
DTSTART:20241027T010000
END:STANDARD
BEGIN:DAYLIGHT
TZOFFSETFROM:+0000
TZOFFSETTO:+0100
TZNAME:WEST
DTSTART:20250330T010000
END:DAYLIGHT
BEGIN:STANDARD
TZOFFSETFROM:+0100
TZOFFSETTO:+0000
TZNAME:WET
DTSTART:20251026T010000
END:STANDARD
END:VTIMEZONE
BEGIN:VEVENT
DTSTART;TZID=Europe/Lisbon:20241222T100000
DTEND;TZID=Europe/Lisbon:20241222T130000
DTSTAMP:20260421T155632
CREATED:20241207T180721Z
LAST-MODIFIED:20241209T092258Z
UID:15138-1734861600-1734872400@www.mutuapescadores.pt
SUMMARY:Assembleia Geral da Mútua dos Pescadores
DESCRIPTION:22 de dezembro\, Voz do Operário\, Lisboa\nA Mútua dos Pescadores realiza a sua Assembleia Geral no próximo dia 22 de dezembro\, na Voz do Operário\, em Lisboa.\nParticipe! \nConvocam-se os cooperadores da Mútua para a última Assembleia geral do ano. Encerrando-se desta forma simbolicamente o ano em que o 25 de abril cumpriu o seu 50.° aniversário\, num local emblemático da história da Cooperativa\, onde há 40 anos se realizou uma Assembleia Geral eleitoral que foi abruptamente interrompida por episódios de violência que levaram à suspensão do ato eleitoral e culminaram na ingerência do governo da altura na gestão da cooperativa. Uma entorse na vida democrática da Mútua! \nNo domingo estes episódios serão novamente evocados\, numa Assembleia especial que conta também com um momento musical pelo Coro Mútua e os músicos José Carita e Ruben Martins. \n\nASSEMBLEIA GERAL\nCONVOCATÓRIA \nNos termos legais e estatutários\, é convocada a Assembleia Geral da Mútua dos Pescadores – Mútua de Seguros\, C.R.L.\, com o capital social variável mínimo de 6.000.000 de Euros\, com sede em Lisboa\, na Avenida Santos Dumont\, n.º 57 – 6.º\, 7.º e 8.º\, registada na Conservatória do Registo Comercial de Lisboa sob o n.º 16.616\, para se reunir no dia 22 de dezembro de 2024\, pelas 10 horas\, na Sociedade de Instrução e Beneficência A Voz do Operário\, sita à Rua Voz do Operário\, n.º 13\, tendo a seguinte \nOrdem de Trabalhos: \n1.º – Apreciação\, discussão e votação do Plano de Atividades e Orçamento para o triénio 2025-2027;\n2.º – Apreciação\, discussão e votação do Plano de Formação para 2025;\n3.º – Apreciação\, discussão e votação da proposta de revisão da Política de Remuneração;\n4.º – Apreciação\, discussão e votação da proposta de revisão da Política de Seleção e Avaliação;\n5.º – Apreciação\, discussão e votação da proposta de Regulamento da eleição do Representante dos Trabalhadores no Conselho Nacional;\n6.º – Apreciação\, discussão e votação da proposta do Conselho Fiscal para designação do Revisor Oficial de Contas para o exercício de 2025;\n7.º – Outros Assuntos. \nNos termos do n.º 2\, do artigo 35.º dos Estatutos\, se à hora marcada não estiverem presentes mais de metade dos cooperadores com direito a voto\, a assembleia reunirá validamente meia hora depois com qualquer número de participantes. \nLisboa\, 28 de novembro de 2024 \nO Presidente da Mesa da Assembleia Geral\nJosé Manuel Jerónimo Teixeira \n\n Download Convocatória\n\n \n 
URL:https://www.mutuapescadores.pt/event/assembleia-geral-da-mutua-dos-pescadores-4/
CATEGORIES:Eventos
END:VEVENT
END:VCALENDAR