BEGIN:VCALENDAR
VERSION:2.0
PRODID:-//Mútua dos Pescadores - ECPv6.15.20//NONSGML v1.0//EN
CALSCALE:GREGORIAN
METHOD:PUBLISH
X-WR-CALNAME:Mútua dos Pescadores
X-ORIGINAL-URL:https://www.mutuapescadores.pt
X-WR-CALDESC:Eventos para Mútua dos Pescadores
REFRESH-INTERVAL;VALUE=DURATION:PT1H
X-Robots-Tag:noindex
X-PUBLISHED-TTL:PT1H
BEGIN:VTIMEZONE
TZID:Europe/Lisbon
BEGIN:DAYLIGHT
TZOFFSETFROM:+0000
TZOFFSETTO:+0100
TZNAME:WEST
DTSTART:20220327T010000
END:DAYLIGHT
BEGIN:STANDARD
TZOFFSETFROM:+0100
TZOFFSETTO:+0000
TZNAME:WET
DTSTART:20221030T010000
END:STANDARD
BEGIN:DAYLIGHT
TZOFFSETFROM:+0000
TZOFFSETTO:+0100
TZNAME:WEST
DTSTART:20230326T010000
END:DAYLIGHT
BEGIN:STANDARD
TZOFFSETFROM:+0100
TZOFFSETTO:+0000
TZNAME:WET
DTSTART:20231029T010000
END:STANDARD
BEGIN:DAYLIGHT
TZOFFSETFROM:+0000
TZOFFSETTO:+0100
TZNAME:WEST
DTSTART:20240331T010000
END:DAYLIGHT
BEGIN:STANDARD
TZOFFSETFROM:+0100
TZOFFSETTO:+0000
TZNAME:WET
DTSTART:20241027T010000
END:STANDARD
END:VTIMEZONE
BEGIN:VEVENT
DTSTART;VALUE=DATE:20230519
DTEND;VALUE=DATE:20230619
DTSTAMP:20260419T140924
CREATED:20230523T080814Z
LAST-MODIFIED:20230523T092810Z
UID:13475-1684454400-1687132799@www.mutuapescadores.pt
SUMMARY:IX Cruzeiro Religioso e Cultural do Tejo
DESCRIPTION:III Cruzeiro Ibérico do Tejo\nA procissão de barcos tradicionais do Tejo já desce o Rio\, desde Rosmaninhal/Alcântara\, em Espanha\, com destino a Oeiras\, onde se prevê chegar a 18 de junho. \nO Cruzeiro tem como objetivos específicos: Reforçar a identidade das comunidades\, aproximando-as através da partilha cultural e religiosa; aproximar as comunidades do rio Tejo para usufruírem da sua riqueza; transformar as comunidades ribeirinhas em elementos divulgadores das enormes potencialidades do rio na área do Turismo Sustentável e das Culturas a ele associadas. (ref. Memória descritiva) \nUma peregrinação fluvial de carácter religioso\, em nome da Nossa Senhora dos Avieiros e do Tejo e cultural que se realiza no Tejo\, num percurso com perto de 300 km e como sucedeu em edições anteriores o rio será percorrido desde a entrada em Portugal\, o Rosmaninhal\, até à sua foz em Oeiras. \nO IX Cruzeiro Religioso e Cultural do Tejo \ III Cruzeiro Ibérico do Tejo conta com o apoio de perto de 160 entidades ao longo do Tejo. \nO Cruzeiro pretende ano após ano\, dinamizar as comunidades ribeirinhas do Tejo\, e evocar as tradições dos Avieiros\, estando também envolvido na candidatura da Cultura Avieira a Património Mundial\, na sequência de um conjunto de estudos realizados pelo Instituto Politécnico de Santarém. \nApoiam a iniciativa as câmaras municipais\, juntas de freguesia e paróquias. Ministério do Ambiente\, o Ministério da Administração interna\, Ministério da Defesa\, a Guarda Nacional Republicana e a Marinha\, a Capitania do Porto de Lisboa. Conta ainda com o apoio de associações\, coletividades e empresas ao longo do Rio. \nEste ano conta com o Alto Patrocínio do Presidente da República de Portugal. \nA Mútua volta a ser a seguradora da iniciativa\, fazendo votos de que a festa prossiga sempre em segurança. \nVer Memória descritiva\nAcompanhar no Facebook
URL:https://www.mutuapescadores.pt/event/x-cruzeiro-religioso-e-cultural-do-tejo/
CATEGORIES:Eventos
ATTACH;FMTTYPE=image/jpeg:https://www.mutuapescadores.pt/wp-content/uploads/2023/05/noticia-cruzeiro-tejo-23.jpg
END:VEVENT
BEGIN:VEVENT
DTSTART;VALUE=DATE:20230601
DTEND;VALUE=DATE:20230619
DTSTAMP:20260419T140924
CREATED:20230531T081527Z
LAST-MODIFIED:20230612T174025Z
UID:13521-1685577600-1687132799@www.mutuapescadores.pt
SUMMARY:Mostra de tradições marítimas
DESCRIPTION:Semana do Mar em Setúbal\, de 31 de maio (Dia do Pescador) a 18 de junho\nUma das principais vertentes da Mostra das Tradições Marítimas é dar a conhecer aos mais pequenos as artes e os ofícios do mar e da pesca. \nNa grande maioria dos casos\, as crianças do Concelho têm como único contacto com o rio Sado as idas à praia ou os passeios à beira-mar\, desconhecendo por completo um mundo de biodiversidade que têm à porta de casa. \nA Mostra das Tradições Marítimas tem por isso\, como um dos pilares centrais a urgência da tomada de consciência quer do património natural marinho\, quer da importância da valorização da pesca e da economia do mar\, assim como a promoção das tradições marítimas. A União das Freguesias de Setúbal\, a Junta de Freguesia de São Sebastião e a Junta de Freguesia do Sado criaram assim um programa dirigido às escolas\, a partir do Parque Urbano de Albarquel\, onde irão decorrer oficinas ligadas ao mar e à pesca\, demonstrações de artes\, batismo de bote\, entre outros. E para além das escolas\, a Mostra das Tradições Marítimas estará aberta ao público todos os dias com uma vasta oferta gastronómica e um programa cultural diferente a cada dia. \nA Mútua lá estará promovendo a oficina de construção com lixo marinho\, com o projeto Mar de Experiências\, no dia 1 de junho\, assinalando assim o Dia da Criança\, e no dia 17 leva ao Parque de Albarquel uma demonstração de equipamentos de segurança marítima\, uma iniciativa dirigida à comunidade piscatória.\nAcompanhar a iniciativa \nPrograma completo \n\n			\n				\n			\n			\n				\n			\n				\n				Créditos União de Freguesias de Setúbal
URL:https://www.mutuapescadores.pt/event/mostra-de-tradicoes-maritimas/
CATEGORIES:Eventos
END:VEVENT
END:VCALENDAR