BEGIN:VCALENDAR
VERSION:2.0
PRODID:-//Mútua dos Pescadores - ECPv6.15.20//NONSGML v1.0//EN
CALSCALE:GREGORIAN
METHOD:PUBLISH
X-ORIGINAL-URL:https://www.mutuapescadores.pt
X-WR-CALDESC:Eventos para Mútua dos Pescadores
REFRESH-INTERVAL;VALUE=DURATION:PT1H
X-Robots-Tag:noindex
X-PUBLISHED-TTL:PT1H
BEGIN:VTIMEZONE
TZID:Europe/Lisbon
BEGIN:DAYLIGHT
TZOFFSETFROM:+0000
TZOFFSETTO:+0100
TZNAME:WEST
DTSTART:20220327T010000
END:DAYLIGHT
BEGIN:STANDARD
TZOFFSETFROM:+0100
TZOFFSETTO:+0000
TZNAME:WET
DTSTART:20221030T010000
END:STANDARD
BEGIN:DAYLIGHT
TZOFFSETFROM:+0000
TZOFFSETTO:+0100
TZNAME:WEST
DTSTART:20230326T010000
END:DAYLIGHT
BEGIN:STANDARD
TZOFFSETFROM:+0100
TZOFFSETTO:+0000
TZNAME:WET
DTSTART:20231029T010000
END:STANDARD
BEGIN:DAYLIGHT
TZOFFSETFROM:+0000
TZOFFSETTO:+0100
TZNAME:WEST
DTSTART:20240331T010000
END:DAYLIGHT
BEGIN:STANDARD
TZOFFSETFROM:+0100
TZOFFSETTO:+0000
TZNAME:WET
DTSTART:20241027T010000
END:STANDARD
END:VTIMEZONE
BEGIN:VEVENT
DTSTART;VALUE=DATE:20230518
DTEND;VALUE=DATE:20230522
DTSTAMP:20260419T154056
CREATED:20230516T073703Z
LAST-MODIFIED:20230516T073703Z
UID:13402-1684368000-1684713599@www.mutuapescadores.pt
SUMMARY:Feira Náutica de Setúbal
DESCRIPTION:A 2ª Edição da Feira Náutica de Setúbal\, organizada pela Câmara Municipal com o apoio da Administração dos Portos de Setúbal e Sesimbra\, decorre entre os dias 18 e 21 de maio\, no Cais 3 da Administração dos Portos de Setúbal e Sesimbra. \nExposições\, atividades náuticas e de montanha\, batismos náuticos\, venda de material e workshops integram o programa da Feira Náutica que pretende ser também um espaço de negócio e de divulgação de serviços de empresas portuguesas e estrangeiras. \nA Mútua dos Pescadores estará presente pela primeira vez. Visite-nos! \nO evento vai ainda contar com a realização de provas desportivas\, nomeadamente com uma Regata de Vela de Cruzeiro e com o Alpertuche Nautic Tour\, um passeio de canoagem e paddle a partir do Parque Urbano de Albarquel. \nA gastronomia local e uma mostra de Sabores do Mar\, aberta ao público entre as 12h00 e as 23h00\, são outros motivos para visitar a Feira Náutica. \nSaber mais aqui.
URL:https://www.mutuapescadores.pt/event/feira-nautica-de-setubal/
CATEGORIES:Eventos
ATTACH;FMTTYPE=image/webp:https://www.mutuapescadores.pt/wp-content/uploads/2023/05/feira-setubal.webp
END:VEVENT
BEGIN:VEVENT
DTSTART;TZID=Europe/Lisbon:20230518T103000
DTEND;TZID=Europe/Lisbon:20230518T150000
DTSTAMP:20260419T154056
CREATED:20230516T144851Z
LAST-MODIFIED:20230516T144851Z
UID:13417-1684405800-1684422000@www.mutuapescadores.pt
SUMMARY:Dia Internacional dos Museus  ...é no Museu de Marinha\, em Lisboa!
DESCRIPTION:Este ano\, com o tema “Museus\, Sustentabilidade e Bem-Estar”\, procura-se destacar o importante contributo destes espaços para o bem-estar e o desenvolvimento sustentável das comunidades\, e a Mútua associou-se ao Museu de Marinha para assinalar esta data. \nA partir das 10h30 o Museu recebe pescadores de Norte a Sul (nas Galerias)\, e ao final da manhã haverá uma conversa com mulheres pescadoras\, dinamizada por Stella Maris Vallejo no Pavilhão das Galeotas.\nDepois do almoço será possível continuar a contatar com os pescadores e as suas experiências de vida\, e pelas 15h00 terá lugar a Sessão de Encerramento\, com uma breve intervenção do Diretor do Museu de Marinha e do Presidente da Mútua\, no Pavilhão das Galeotas.\nA iniciativa termina com a atuação o Coro Mútua\, no mesmo espaço. \nPrograma completo aqui \n \n 
URL:https://www.mutuapescadores.pt/event/dia-internacional-dos-museus-e-no-museu-de-marinha-em-lisboa/
CATEGORIES:Eventos
END:VEVENT
END:VCALENDAR