BEGIN:VCALENDAR
VERSION:2.0
PRODID:-//Mútua dos Pescadores - ECPv6.15.20//NONSGML v1.0//EN
CALSCALE:GREGORIAN
METHOD:PUBLISH
X-WR-CALNAME:Mútua dos Pescadores
X-ORIGINAL-URL:https://www.mutuapescadores.pt
X-WR-CALDESC:Eventos para Mútua dos Pescadores
REFRESH-INTERVAL;VALUE=DURATION:PT1H
X-Robots-Tag:noindex
X-PUBLISHED-TTL:PT1H
BEGIN:VTIMEZONE
TZID:Europe/Lisbon
BEGIN:DAYLIGHT
TZOFFSETFROM:+0000
TZOFFSETTO:+0100
TZNAME:WEST
DTSTART:20220327T010000
END:DAYLIGHT
BEGIN:STANDARD
TZOFFSETFROM:+0100
TZOFFSETTO:+0000
TZNAME:WET
DTSTART:20221030T010000
END:STANDARD
BEGIN:DAYLIGHT
TZOFFSETFROM:+0000
TZOFFSETTO:+0100
TZNAME:WEST
DTSTART:20230326T010000
END:DAYLIGHT
BEGIN:STANDARD
TZOFFSETFROM:+0100
TZOFFSETTO:+0000
TZNAME:WET
DTSTART:20231029T010000
END:STANDARD
BEGIN:DAYLIGHT
TZOFFSETFROM:+0000
TZOFFSETTO:+0100
TZNAME:WEST
DTSTART:20240331T010000
END:DAYLIGHT
BEGIN:STANDARD
TZOFFSETFROM:+0100
TZOFFSETTO:+0000
TZNAME:WET
DTSTART:20241027T010000
END:STANDARD
END:VTIMEZONE
BEGIN:VEVENT
DTSTART;TZID=Europe/Lisbon:20230504T140000
DTEND;TZID=Europe/Lisbon:20230504T180000
DTSTAMP:20260423T113018
CREATED:20230509T181715Z
LAST-MODIFIED:20230510T141733Z
UID:13338-1683208800-1683223200@www.mutuapescadores.pt
SUMMARY:Prevenção de Riscos nas empresas
DESCRIPTION:Seminário na Figueira da Foz\, 4 de maio\, 14h15\nOrganizado pela ACIFF – Associação Comercial e Industrial da Figueira da Foz\, o Grupo Credimédia e a Incubadora de Mar & Indústria da Figueira da Foz terá lugar o evento “Como Proteger Riscos nas Empresas”\, no Auditório da Incubadora de Mar & Indústria da Figueira da Foz\, no Parque Industrial da Figueira da Foz\, que conta com a presença da Mútua dos Pescadores no painel de entidades convidadas. \nA sessão pretende dar a conhecer a gestores e administradores soluções de proteção para as empresas face aos riscos a que as empresas estão expostas atualmente nas várias atividades empresariais\, desde comércio à indústria passando pelos serviços e pescas. \nFruto também da comemoração dos 30 anos desde a assinatura do protocolo entre a ACIFF e a Credimédia\, no final da iniciativa será assinada a renovação do protocolo entre as das entidades e será também assinado um protocolo entre a Credimédia e a Incubadora Mar & Indústria da Figueira da Foz. \n\nPROGRAMA: \n14H15 RECEÇÃO AOS PARTICIPANTES\n14H30 ABERTURA DA SESSÃO – PRESIDENTE DA ACIFF\n14H45 APRESENTAÇÃO DA CREDIMÉDIA\n15H00 CYBER RISKS – DEFENDA-SE DOS ATAQUES INFORMÁTICOS À SUA EMPRESA\n15H20 PROTEJA OS SEUS BENS PATRIMONIAIS\n15H40 SEGURO DE CAUÇÃO E SEGURO DE CRÉDITO\n16H00 RETENHA TALENTO COM OPÇÕES DE SEGURO DE SAÚDE – PROGRAMAS DE AFFINITIES\n16H30 NAVEGUE NOS OCEANOS EM SEGURANÇA\n17h00 ASSINATURA DOS PROTOCOLOS\n• ACIFF – CREDIMÉDIA\n• IEFF – CREDIMÉDIA \nA sessão é gratuita\, e conta com a participação de vários seguradores. \nINSCRIÇÃO OBRIGATÓRIA AQUI \n\n\n DOWNLOAD PROGRAMA
URL:https://www.mutuapescadores.pt/event/prevencao-de-riscos-nas-empresas/
CATEGORIES:Eventos
ATTACH;FMTTYPE=image/jpeg:https://www.mutuapescadores.pt/wp-content/uploads/2023/05/img-4maio-Programa.jpg
END:VEVENT
END:VCALENDAR