BEGIN:VCALENDAR
VERSION:2.0
PRODID:-//Mútua dos Pescadores - ECPv6.15.20//NONSGML v1.0//EN
CALSCALE:GREGORIAN
METHOD:PUBLISH
X-WR-CALNAME:Mútua dos Pescadores
X-ORIGINAL-URL:https://www.mutuapescadores.pt
X-WR-CALDESC:Eventos para Mútua dos Pescadores
REFRESH-INTERVAL;VALUE=DURATION:PT1H
X-Robots-Tag:noindex
X-PUBLISHED-TTL:PT1H
BEGIN:VTIMEZONE
TZID:Europe/Lisbon
BEGIN:DAYLIGHT
TZOFFSETFROM:+0000
TZOFFSETTO:+0100
TZNAME:WEST
DTSTART:20210328T010000
END:DAYLIGHT
BEGIN:STANDARD
TZOFFSETFROM:+0100
TZOFFSETTO:+0000
TZNAME:WET
DTSTART:20211031T010000
END:STANDARD
BEGIN:DAYLIGHT
TZOFFSETFROM:+0000
TZOFFSETTO:+0100
TZNAME:WEST
DTSTART:20220327T010000
END:DAYLIGHT
BEGIN:STANDARD
TZOFFSETFROM:+0100
TZOFFSETTO:+0000
TZNAME:WET
DTSTART:20221030T010000
END:STANDARD
BEGIN:DAYLIGHT
TZOFFSETFROM:+0000
TZOFFSETTO:+0100
TZNAME:WEST
DTSTART:20230326T010000
END:DAYLIGHT
BEGIN:STANDARD
TZOFFSETFROM:+0100
TZOFFSETTO:+0000
TZNAME:WET
DTSTART:20231029T010000
END:STANDARD
END:VTIMEZONE
BEGIN:VEVENT
DTSTART;TZID=Europe/Lisbon:20221218T100000
DTEND;TZID=Europe/Lisbon:20221218T130000
DTSTAMP:20260421T175909
CREATED:20221209T185740Z
LAST-MODIFIED:20221210T094146Z
UID:12309-1671357600-1671368400@www.mutuapescadores.pt
SUMMARY:Assembleia geral da Mútua dos Pescadores - Balanço das Comemorações
DESCRIPTION:Convocam-se os cooperadores da Mútua dos Pescadores para a sua Assembleia geral magna no dia 18 de dezembro\, pelas 10h00. \nSerá a última Assembleia geral do ano\, para aprovação do Plano de Atividades e Orçamento para o triénio 2023-2025\, entre outros importantes documentos de gestão\, e encerra-se também o ciclo comemorativo dos 80 anos da cooperativa.  \n Download Convocatória
URL:https://www.mutuapescadores.pt/event/assembleia-geral-da-mutua-dos-pescadores-2/
CATEGORIES:Eventos
ATTACH;FMTTYPE=image/png:https://www.mutuapescadores.pt/wp-content/uploads/2021/12/logo-80-anos.png
END:VEVENT
END:VCALENDAR