BEGIN:VCALENDAR
VERSION:2.0
PRODID:-//Mútua dos Pescadores - ECPv6.15.20//NONSGML v1.0//EN
CALSCALE:GREGORIAN
METHOD:PUBLISH
X-WR-CALNAME:Mútua dos Pescadores
X-ORIGINAL-URL:https://www.mutuapescadores.pt
X-WR-CALDESC:Eventos para Mútua dos Pescadores
REFRESH-INTERVAL;VALUE=DURATION:PT1H
X-Robots-Tag:noindex
X-PUBLISHED-TTL:PT1H
BEGIN:VTIMEZONE
TZID:Europe/Lisbon
BEGIN:DAYLIGHT
TZOFFSETFROM:+0000
TZOFFSETTO:+0100
TZNAME:WEST
DTSTART:20210328T010000
END:DAYLIGHT
BEGIN:STANDARD
TZOFFSETFROM:+0100
TZOFFSETTO:+0000
TZNAME:WET
DTSTART:20211031T010000
END:STANDARD
BEGIN:DAYLIGHT
TZOFFSETFROM:+0000
TZOFFSETTO:+0100
TZNAME:WEST
DTSTART:20220327T010000
END:DAYLIGHT
BEGIN:STANDARD
TZOFFSETFROM:+0100
TZOFFSETTO:+0000
TZNAME:WET
DTSTART:20221030T010000
END:STANDARD
BEGIN:DAYLIGHT
TZOFFSETFROM:+0000
TZOFFSETTO:+0100
TZNAME:WEST
DTSTART:20230326T010000
END:DAYLIGHT
BEGIN:STANDARD
TZOFFSETFROM:+0100
TZOFFSETTO:+0000
TZNAME:WET
DTSTART:20231029T010000
END:STANDARD
END:VTIMEZONE
BEGIN:VEVENT
DTSTART;TZID=Europe/Lisbon:20221115T090000
DTEND;TZID=Europe/Lisbon:20221116T180000
DTSTAMP:20260421T194448
CREATED:20221116T091847Z
LAST-MODIFIED:20221116T092012Z
UID:12257-1668502800-1668621600@www.mutuapescadores.pt
SUMMARY:Expofish Portugal
DESCRIPTION:Terminal de contentores de Leixões e on-line\nA Mútua marca presença em mais uma edição da Expofish\, feira virtual de promoção das atividades ligadas ao mar. \nA Feira decorre entre 15 e 16 de Novembro\, naquele que é\, de acordo com a organização\, a empresa do Estado\, Docapesca\, Portos e Lotas\, SA\, o maior espaço virtual de promoção de pescado português e das atividades ligadas ao setor.\nUma mostra de empresas\, produtos e serviços\, com possibilidade de trocar contactos\, e também com algumas conferências presenciais. \nPrograma aqui: https://www.expofishportugal.com/pt/feira#event-program\nVisita virtual: https://www.expofishportugal.com/pt
URL:https://www.mutuapescadores.pt/event/expofish-portugal/
CATEGORIES:Eventos
ATTACH;FMTTYPE=image/jpeg:https://www.mutuapescadores.pt/wp-content/uploads/2022/11/expo-fish22.jpg
END:VEVENT
END:VCALENDAR