BEGIN:VCALENDAR
VERSION:2.0
PRODID:-//Mútua dos Pescadores - ECPv6.15.20//NONSGML v1.0//EN
CALSCALE:GREGORIAN
METHOD:PUBLISH
X-ORIGINAL-URL:https://www.mutuapescadores.pt
X-WR-CALDESC:Eventos para Mútua dos Pescadores
REFRESH-INTERVAL;VALUE=DURATION:PT1H
X-Robots-Tag:noindex
X-PUBLISHED-TTL:PT1H
BEGIN:VTIMEZONE
TZID:Europe/Lisbon
BEGIN:DAYLIGHT
TZOFFSETFROM:+0000
TZOFFSETTO:+0100
TZNAME:WEST
DTSTART:20210328T010000
END:DAYLIGHT
BEGIN:STANDARD
TZOFFSETFROM:+0100
TZOFFSETTO:+0000
TZNAME:WET
DTSTART:20211031T010000
END:STANDARD
BEGIN:DAYLIGHT
TZOFFSETFROM:+0000
TZOFFSETTO:+0100
TZNAME:WEST
DTSTART:20220327T010000
END:DAYLIGHT
BEGIN:STANDARD
TZOFFSETFROM:+0100
TZOFFSETTO:+0000
TZNAME:WET
DTSTART:20221030T010000
END:STANDARD
BEGIN:DAYLIGHT
TZOFFSETFROM:+0000
TZOFFSETTO:+0100
TZNAME:WEST
DTSTART:20230326T010000
END:DAYLIGHT
BEGIN:STANDARD
TZOFFSETFROM:+0100
TZOFFSETTO:+0000
TZNAME:WET
DTSTART:20231029T010000
END:STANDARD
END:VTIMEZONE
BEGIN:VEVENT
DTSTART;VALUE=DATE:20221029
DTEND;VALUE=DATE:20221030
DTSTAMP:20260421T210800
CREATED:20221020T082351Z
LAST-MODIFIED:20221020T082351Z
UID:12186-1667001600-1667087999@www.mutuapescadores.pt
SUMMARY:10º Seminário Desafios do Mar Português
DESCRIPTION:29 de Outubro no Museu Marítimo de Ílhavo\nCom o tema “Do Mar às Artes”\, a edição de 2022 do Seminário “Desafios do Mar Português”\, será dedicada às diversas expressões artísticas que têm o Mar como inspiração. \nCom o objetivo de divulgar manifestações culturais que realçam e afirmam a identidade marítima portuguesa\, e destinado a quem se interessa por temas de cultura marítima\, arte e criação artística e a todos os que procuram fruição cientifico-cultural através do património\, a edição deste ano terá como parceiros a Direção Regional de Cultura do Centro\, o CITCEM – Centro de Investigação Transdisciplinar «Cultura\, Espaço e Memória»\, da Universidade do Porto\, e o Instituto de História de Arte da Faculdade de Ciências Sociais e Humanas da Universidade Nova de Lisboa. \nTambém\, e à semelhança dos anos anteriores\, o evento será creditado como uma formação de pequena duração (6 horas) para educadores de infância e professores de todos os níveis/graus de ensino\, mediante posterior inscrição no site do Centro de Formação da Área (www.cfaecivob.pt). \nInscrições gratuitas: ciemar.mmi@cm-ilhavo.pt\nDados: nome\, profissão\, instituição e contactos.
URL:https://www.mutuapescadores.pt/event/10o-seminario-desafios-do-mar-portugues/
CATEGORIES:Eventos
END:VEVENT
END:VCALENDAR