BEGIN:VCALENDAR
VERSION:2.0
PRODID:-//Mútua dos Pescadores - ECPv6.15.20//NONSGML v1.0//EN
CALSCALE:GREGORIAN
METHOD:PUBLISH
X-ORIGINAL-URL:https://www.mutuapescadores.pt
X-WR-CALDESC:Eventos para Mútua dos Pescadores
REFRESH-INTERVAL;VALUE=DURATION:PT1H
X-Robots-Tag:noindex
X-PUBLISHED-TTL:PT1H
BEGIN:VTIMEZONE
TZID:Europe/Lisbon
BEGIN:DAYLIGHT
TZOFFSETFROM:+0000
TZOFFSETTO:+0100
TZNAME:WEST
DTSTART:20210328T010000
END:DAYLIGHT
BEGIN:STANDARD
TZOFFSETFROM:+0100
TZOFFSETTO:+0000
TZNAME:WET
DTSTART:20211031T010000
END:STANDARD
BEGIN:DAYLIGHT
TZOFFSETFROM:+0000
TZOFFSETTO:+0100
TZNAME:WEST
DTSTART:20220327T010000
END:DAYLIGHT
BEGIN:STANDARD
TZOFFSETFROM:+0100
TZOFFSETTO:+0000
TZNAME:WET
DTSTART:20221030T010000
END:STANDARD
BEGIN:DAYLIGHT
TZOFFSETFROM:+0000
TZOFFSETTO:+0100
TZNAME:WEST
DTSTART:20230326T010000
END:DAYLIGHT
BEGIN:STANDARD
TZOFFSETFROM:+0100
TZOFFSETTO:+0000
TZNAME:WET
DTSTART:20231029T010000
END:STANDARD
END:VTIMEZONE
BEGIN:VEVENT
DTSTART;TZID=Europe/Lisbon:20221021T140000
DTEND;TZID=Europe/Lisbon:20221021T140000
DTSTAMP:20260421T210050
CREATED:20220703T104356Z
LAST-MODIFIED:20221019T081911Z
UID:11637-1666360800-1666360800@www.mutuapescadores.pt
SUMMARY:Portimão: Desafios para a sustentabilidade marítima - diálogo entre a pesca e o turismo
DESCRIPTION:21 de outubro\, Antiga Lota de Portimão\nA última iniciativa temática evocativa do 80.º Aniversário da Mútua decorre no próximo dia 21\, a partir das 14h00\, o Encontro “Desafios para a sustentabilidade marítima\, diálogo entre a pesca e o turismo”\, que pretende por em diálogo as várias atividades marítimas que muitas vezes divergem entre si\, quando deveriam ser complementares. \nInscrições para 282 411 374 ou mutua.iniciativas@gmail.com\nDownload Programa \n \n \n80 anos Mútua
URL:https://www.mutuapescadores.pt/event/desafios-para-a-sustentabilidade-maritima-dialogo-entre-a-pesca-e-o-turismo/
CATEGORIES:Eventos
ATTACH;FMTTYPE=image/jpeg:https://www.mutuapescadores.pt/wp-content/uploads/2022/10/Mutua-Portimao-211022.jpg
END:VEVENT
END:VCALENDAR