BEGIN:VCALENDAR
VERSION:2.0
PRODID:-//Mútua dos Pescadores - ECPv6.15.20//NONSGML v1.0//EN
CALSCALE:GREGORIAN
METHOD:PUBLISH
X-ORIGINAL-URL:https://www.mutuapescadores.pt
X-WR-CALDESC:Eventos para Mútua dos Pescadores
REFRESH-INTERVAL;VALUE=DURATION:PT1H
X-Robots-Tag:noindex
X-PUBLISHED-TTL:PT1H
BEGIN:VTIMEZONE
TZID:Europe/Lisbon
BEGIN:DAYLIGHT
TZOFFSETFROM:+0000
TZOFFSETTO:+0100
TZNAME:WEST
DTSTART:20210328T010000
END:DAYLIGHT
BEGIN:STANDARD
TZOFFSETFROM:+0100
TZOFFSETTO:+0000
TZNAME:WET
DTSTART:20211031T010000
END:STANDARD
BEGIN:DAYLIGHT
TZOFFSETFROM:+0000
TZOFFSETTO:+0100
TZNAME:WEST
DTSTART:20220327T010000
END:DAYLIGHT
BEGIN:STANDARD
TZOFFSETFROM:+0100
TZOFFSETTO:+0000
TZNAME:WET
DTSTART:20221030T010000
END:STANDARD
BEGIN:DAYLIGHT
TZOFFSETFROM:+0000
TZOFFSETTO:+0100
TZNAME:WEST
DTSTART:20230326T010000
END:DAYLIGHT
BEGIN:STANDARD
TZOFFSETFROM:+0100
TZOFFSETTO:+0000
TZNAME:WET
DTSTART:20231029T010000
END:STANDARD
END:VTIMEZONE
BEGIN:VEVENT
DTSTART;TZID=Europe/Lisbon:20220924T100000
DTEND;TZID=Europe/Lisbon:20220924T160000
DTSTAMP:20260421T224607
CREATED:20220914T104414Z
LAST-MODIFIED:20220914T104551Z
UID:12012-1664013600-1664035200@www.mutuapescadores.pt
SUMMARY:Festa dos Bacalhoeiros
DESCRIPTION:Museu Marítimo de Ílhavo\, 24 de setembro de 2022\nDesde 2017 a juntar as várias gerações de homens de todo o país que andaram ao bacalhau\, realiza-se a 24 de setembro\, em Ílhavo\, a “Festa dos Bacalhoeiros”. \nPromovida pelo Museu Marítimo de Ílhavo esta será a 4º edição deste evento e para além da partilha de recordações e relatos de vivências nos mares gelados do Atlântico Norte\, o programa inclui visitas ao Museu Marítimo de Ílhavo\, ao Centro de Religiosidade Marítima e ao Navio-Museu Santo André\, assim como a visualização de um documentário\, performances teatral e musical e um almoço convívio. \nMais informações e programa
URL:https://www.mutuapescadores.pt/event/festa-dos-bacalhoeiros/
CATEGORIES:Eventos
END:VEVENT
END:VCALENDAR