BEGIN:VCALENDAR
VERSION:2.0
PRODID:-//Mútua dos Pescadores - ECPv6.15.20//NONSGML v1.0//EN
CALSCALE:GREGORIAN
METHOD:PUBLISH
X-WR-CALNAME:Mútua dos Pescadores
X-ORIGINAL-URL:https://www.mutuapescadores.pt
X-WR-CALDESC:Eventos para Mútua dos Pescadores
REFRESH-INTERVAL;VALUE=DURATION:PT1H
X-Robots-Tag:noindex
X-PUBLISHED-TTL:PT1H
BEGIN:VTIMEZONE
TZID:Europe/Lisbon
BEGIN:DAYLIGHT
TZOFFSETFROM:+0000
TZOFFSETTO:+0100
TZNAME:WEST
DTSTART:20210328T010000
END:DAYLIGHT
BEGIN:STANDARD
TZOFFSETFROM:+0100
TZOFFSETTO:+0000
TZNAME:WET
DTSTART:20211031T010000
END:STANDARD
BEGIN:DAYLIGHT
TZOFFSETFROM:+0000
TZOFFSETTO:+0100
TZNAME:WEST
DTSTART:20220327T010000
END:DAYLIGHT
BEGIN:STANDARD
TZOFFSETFROM:+0100
TZOFFSETTO:+0000
TZNAME:WET
DTSTART:20221030T010000
END:STANDARD
BEGIN:DAYLIGHT
TZOFFSETFROM:+0000
TZOFFSETTO:+0100
TZNAME:WEST
DTSTART:20230326T010000
END:DAYLIGHT
BEGIN:STANDARD
TZOFFSETFROM:+0100
TZOFFSETTO:+0000
TZNAME:WET
DTSTART:20231029T010000
END:STANDARD
END:VTIMEZONE
BEGIN:VEVENT
DTSTART;VALUE=DATE:20220915
DTEND;VALUE=DATE:20220916
DTSTAMP:20260421T224428
CREATED:20220712T165018Z
LAST-MODIFIED:20220712T165018Z
UID:11794-1663200000-1663286399@www.mutuapescadores.pt
SUMMARY:IMAGENS CONSERVADAS
DESCRIPTION:1.º Concurso de fotografia promovido pela ANICP – Associação Nacional dos Industriais de Conservas de Peixe\nAté 15 de setembro\nA iniciativa da ANICP decorre em parceria com o Instituto Português de Fotografia\, e pretende-se conservar\, através do registo fotográfico\, a Indústria de Conservas de Peixe e a relevância do seu passado. \nAs fotografias podem evocar qualquer um dos momentos da cadeia de produção da pesca\, “do mar… ao prato”. \nPor seu lado\, “as latas de conservas de Peixe guardam um produto alimentar saboroso\, saudável e sustentável”\, e desta conjugação surgirão “fotografias capazes de enaltecer e valorizar o conteúdo da lata\, por si só um ícone nacional” (informação da ANICP). \nO Concurso é aberto aos maiores de dezoito anos\, nacionais e estrangeiros. \nA inscrição é gratuita e as propostas devem ser submetidas até dia 15 de setembro de 2022 através do site https://anicp.pt/imagens-conservadas/ (onde se encontra também o regulamento e demais informações). \nAs propostas vão ser avaliadas por um júri composto por 7 personalidades distintas: Adelino Meireles fotojornalista\, Artur Pastor professor e fotógrafo\, pelos designers Luís Mendonça\, Sandra Maria Teixeira e Victor Vicente\, Teresa Nunes representante do IPF e Isabel Tato da ANICP. \nO público também vai ter oportunidade de eleger a fotografia que mais gostar\, entre 20 de setembro a 10 de outubro\, com uma votação online na página https://anicp.pt/votacao-publico-imagens-conservadas/ \nO anúncio dos vencedores tem data marcada para o dia 13 de outubro de 2022. \nPrémios e reconhecimento \n1.º Prémio – viagem ao Museu Fotografiska em Estocolmo\n2.º Prémio – 500€ em material fotográfico\n3.º Prémio – voucher de formação no IPF no valor de 300€ \nPrémio do público – um livro de arte e uma caixa de degustação de conservas. \nAs três fotografias premiadas serão divulgadas pelos órgãos de comunicação social. \nTodos os candidatos receberão um diploma de participação. \nOs projetos que tiverem reconhecimento pelo júri serão selecionados para uma exposição que circulará em várias cidades portuguesas em locais de reconhecido destaquem\, com inauguração a 15 de novembro\, na Assembleia da República. \n\nO concurso conta com o apoio do Ministério da Agricultura e Alimentação\, do Grupo Global Média\, da agência de viagens Media Travel e do El Corte Inglês. \nSaber mais aqui https://anicp.pt/imagens-conservadas/\nANICP – https://anicp.pt/\nIPF – https://ipf.pt/site/
URL:https://www.mutuapescadores.pt/event/imagens-conservadas-2/
CATEGORIES:Eventos
END:VEVENT
END:VCALENDAR