BEGIN:VCALENDAR
VERSION:2.0
PRODID:-//Mútua dos Pescadores - ECPv6.15.20//NONSGML v1.0//EN
CALSCALE:GREGORIAN
METHOD:PUBLISH
X-ORIGINAL-URL:https://www.mutuapescadores.pt
X-WR-CALDESC:Eventos para Mútua dos Pescadores
REFRESH-INTERVAL;VALUE=DURATION:PT1H
X-Robots-Tag:noindex
X-PUBLISHED-TTL:PT1H
BEGIN:VTIMEZONE
TZID:Europe/Lisbon
BEGIN:DAYLIGHT
TZOFFSETFROM:+0000
TZOFFSETTO:+0100
TZNAME:WEST
DTSTART:20210328T010000
END:DAYLIGHT
BEGIN:STANDARD
TZOFFSETFROM:+0100
TZOFFSETTO:+0000
TZNAME:WET
DTSTART:20211031T010000
END:STANDARD
BEGIN:DAYLIGHT
TZOFFSETFROM:+0000
TZOFFSETTO:+0100
TZNAME:WEST
DTSTART:20220327T010000
END:DAYLIGHT
BEGIN:STANDARD
TZOFFSETFROM:+0100
TZOFFSETTO:+0000
TZNAME:WET
DTSTART:20221030T010000
END:STANDARD
BEGIN:DAYLIGHT
TZOFFSETFROM:+0000
TZOFFSETTO:+0100
TZNAME:WEST
DTSTART:20230326T010000
END:DAYLIGHT
BEGIN:STANDARD
TZOFFSETFROM:+0100
TZOFFSETTO:+0000
TZNAME:WET
DTSTART:20231029T010000
END:STANDARD
END:VTIMEZONE
BEGIN:VEVENT
DTSTART;VALUE=DATE:20220810
DTEND;VALUE=DATE:20220816
DTSTAMP:20260422T001945
CREATED:20220811T080039Z
LAST-MODIFIED:20220811T102758Z
UID:11924-1660089600-1660607999@www.mutuapescadores.pt
SUMMARY:Comunidades costeiras em Festa
DESCRIPTION:Nossa Senhora do Rosário de Tróia\nPorque gostamos de celebrar cada recomeço\, associamo-nos por diversas formas às Festas de Verão das várias comunidades costeiras\, seja protegendo as suas iniciativas\, apoiando-as ou simplesmente divulgando-as e estando presentes. \nAs Festas de Nossa Senhora do Rosário do Troia decorrem por estes dias e lá estaremos uma vez mais\, desta vez sem constrangimentos! \nDOWNLOAD PROGRAMA\n \n 
URL:https://www.mutuapescadores.pt/event/comunidades-costeiras-em-festa/
CATEGORIES:Eventos
END:VEVENT
END:VCALENDAR