BEGIN:VCALENDAR
VERSION:2.0
PRODID:-//Mútua dos Pescadores - ECPv6.15.20//NONSGML v1.0//EN
CALSCALE:GREGORIAN
METHOD:PUBLISH
X-WR-CALNAME:Mútua dos Pescadores
X-ORIGINAL-URL:https://www.mutuapescadores.pt
X-WR-CALDESC:Eventos para Mútua dos Pescadores
REFRESH-INTERVAL;VALUE=DURATION:PT1H
X-Robots-Tag:noindex
X-PUBLISHED-TTL:PT1H
BEGIN:VTIMEZONE
TZID:Europe/Lisbon
BEGIN:DAYLIGHT
TZOFFSETFROM:+0000
TZOFFSETTO:+0100
TZNAME:WEST
DTSTART:20210328T010000
END:DAYLIGHT
BEGIN:STANDARD
TZOFFSETFROM:+0100
TZOFFSETTO:+0000
TZNAME:WET
DTSTART:20211031T010000
END:STANDARD
BEGIN:DAYLIGHT
TZOFFSETFROM:+0000
TZOFFSETTO:+0100
TZNAME:WEST
DTSTART:20220327T010000
END:DAYLIGHT
BEGIN:STANDARD
TZOFFSETFROM:+0100
TZOFFSETTO:+0000
TZNAME:WET
DTSTART:20221030T010000
END:STANDARD
BEGIN:DAYLIGHT
TZOFFSETFROM:+0000
TZOFFSETTO:+0100
TZNAME:WEST
DTSTART:20230326T010000
END:DAYLIGHT
BEGIN:STANDARD
TZOFFSETFROM:+0100
TZOFFSETTO:+0000
TZNAME:WET
DTSTART:20231029T010000
END:STANDARD
END:VTIMEZONE
BEGIN:VEVENT
DTSTART;VALUE=DATE:20220702
DTEND;VALUE=DATE:20220703
DTSTAMP:20260422T015045
CREATED:20220703T091900Z
LAST-MODIFIED:20220703T092012Z
UID:11542-1656720000-1656806399@www.mutuapescadores.pt
SUMMARY:Dia Internacional das Cooperativas
DESCRIPTION:2 de julho de 2022\nNo dia 2 de julho\, as cooperativas de todo o mundo celebrarão o 100.º Dia Internacional das Cooperativas (#CoopsDay). Em Portugal as comemorações deste dia são organizadas tradicionalmente pelas organizações de cúpula do Movimento cooperativo\, Confecoop e Confagri\, com o apoio da CASES\, e este ano realizam-se em Lisboa\, no dia 1 de julho. \nUma década depois do Ano Internacional das Cooperativas da ONU\, que mostrou a contribuição única das cooperativas para tornar o mundo um lugar melhor\, o slogan #CoopsDay deste ano – “Cooperatives Build a Better World”- ecoa o tema do Ano Internacional. \n“As cooperativas estão a responder ao apelo do secretário-geral da ONU\, António Guterres\, que alertou para o fato de o mundo estar “à beira de um abismo e movendo-se na direção errada”\, e exclamou que é preciso “restaurar a confiança e inspirar esperança\, precisamos de cooperação\, precisamos de diálogo\, precisamos de compreensão”. Durante quase dois séculos\, as cooperativas puxam o mundo nessa direção. Isso foi amplamente destacado no 33º Congresso Cooperativo Mundial\, realizado pela Aliança Cooperativa Internacional em dezembro de 2021\, onde se destacou que a sua “identidade compartilhada está a levar as cooperativas a agir para enfrentar os problemas do mundo”\, declarou Bruno Roelants\, Diretor Geral da ICA. \nA ACI convida assim os cooperadores de todos os lugares a divulgarem como o nosso modelo de negócio centrado no ser humano – inspirado nos valores cooperativos de auto-ajuda\, auto-responsabilidade\, democracia\, igualdade\, equidade e solidariedade\, e os valores éticos de honestidade\, abertura\, responsabilidade e cuidado com os outros – é construir um mundo melhor. \nOperando em todo o mundo\, em diversos setores da economia\, as cooperativas provaram ser mais resilientes a crises do que a maior parte das outras empresas. Fomentam a participação económica\, combatem a degradação ambiental e as mudanças climáticas\, geram bons empregos\, contribuem para a segurança alimentar\, mantêm o capital financeiro nas comunidades locais\, constroem cadeias de valor éticas e\, ao melhorar as condições materiais e a segurança das pessoas\, contribuem para uma paz positiva. \n“As cooperativas são o único modelo empresarial com princípios globalmente acordados que se baseiam em valores éticos compartilhados”\, acrescentou Bruno Roelants. \nA ACI pede aos cooperadores e parceiros de todo o mundo que se preparem para celebrar o #CoopsDay e mostrar ao mundo como as cooperativas constroem um mundo melhor. \nTexto adaptado a partir de https://www.coopsday.coop/ \nA Mútua dos Pescadores\, que é a única cooperativa de utentes de seguros portuguesa\, irá este ano associar-se ao apelo da ACI\, incorporando esta celebração nas comemorações do seu 80.º Aniversário. Ler mais aqui. \nAs comemorações oficias da responsabilidade das organizações de cúpula do Movimento Cooperativo Português\, Confecoop – Confederação Cooperativa Portuguesa\, CCRL e Confagri – Confederação Nacional das Cooperativas Agrícolas e do Crédito Agrícola de Portugal\, CCRL\, com o apoio da CASES – Cooperativa António Sérgio para a Economia Social\, decorrem no dia 1 de julho\, no auditório da Gare Marítima da Rocha do Conde de Óbidos\, em Lisboa. \nPrograma e Inscrições aqui | Download Programa em pdf \n\nSobre o Dia Internacional das Cooperativas\nMarcado pelas cooperativas em todo o mundo desde 1923 e proclamado oficialmente pela Assembleia Geral das Nações Unidas no centenário da ACI em 1995\, o Dia Internacional das Cooperativas é comemorado anualmente no primeiro sábado de julho. \nO objetivo do #CoopsDay é aumentar a conscientização das cooperativas e promover as ideias do movimento de solidariedade internacional\, eficiência econômica\, igualdade e paz mundial. Desde 1995\, a ACI e as Nações Unidas por meio do Comité para a Promoção e Avanço das Cooperativas (COPAC) definiram conjuntamente o tema para a celebração do #CoopsDay. \nPor meio do #CoopsDay\, agentes das políticas locais\, nacionais e globais\, organizações da sociedade civil e o público em geral podem aprender sobre a contribuição das cooperativas para um futuro seguro para todos. \nAcompanhar aqui: https://www.coopsday.coop/
URL:https://www.mutuapescadores.pt/event/dia-internacional-das-cooperativas/
CATEGORIES:Eventos
END:VEVENT
END:VCALENDAR