BEGIN:VCALENDAR
VERSION:2.0
PRODID:-//Mútua dos Pescadores - ECPv6.15.20//NONSGML v1.0//EN
CALSCALE:GREGORIAN
METHOD:PUBLISH
X-ORIGINAL-URL:https://www.mutuapescadores.pt
X-WR-CALDESC:Eventos para Mútua dos Pescadores
REFRESH-INTERVAL;VALUE=DURATION:PT1H
X-Robots-Tag:noindex
X-PUBLISHED-TTL:PT1H
BEGIN:VTIMEZONE
TZID:Europe/Lisbon
BEGIN:DAYLIGHT
TZOFFSETFROM:+0000
TZOFFSETTO:+0100
TZNAME:WEST
DTSTART:20210328T010000
END:DAYLIGHT
BEGIN:STANDARD
TZOFFSETFROM:+0100
TZOFFSETTO:+0000
TZNAME:WET
DTSTART:20211031T010000
END:STANDARD
BEGIN:DAYLIGHT
TZOFFSETFROM:+0000
TZOFFSETTO:+0100
TZNAME:WEST
DTSTART:20220327T010000
END:DAYLIGHT
BEGIN:STANDARD
TZOFFSETFROM:+0100
TZOFFSETTO:+0000
TZNAME:WET
DTSTART:20221030T010000
END:STANDARD
BEGIN:DAYLIGHT
TZOFFSETFROM:+0000
TZOFFSETTO:+0100
TZNAME:WEST
DTSTART:20230326T010000
END:DAYLIGHT
BEGIN:STANDARD
TZOFFSETFROM:+0100
TZOFFSETTO:+0000
TZNAME:WET
DTSTART:20231029T010000
END:STANDARD
END:VTIMEZONE
BEGIN:VEVENT
DTSTART;TZID=Europe/Lisbon:20220701T100000
DTEND;TZID=Europe/Lisbon:20220701T130000
DTSTAMP:20260422T015438
CREATED:20220703T091223Z
LAST-MODIFIED:20220703T091223Z
UID:11532-1656669600-1656680400@www.mutuapescadores.pt
SUMMARY:Dia Internacional das Cooperativas – Lisboa
DESCRIPTION:1 de julho – Auditório da Gare Marítima da Rocha do Conde de Óbidos\, Lisboa \nAs comemorações oficias da responsabilidade das organizações de cúpula do Movimento Cooperativo Português\, Confecoop – Confederação Cooperativa Portuguesa\, CCRL e Confagri – Confederação Nacional das Cooperativas Agrícolas e do Crédito Agrícola de Portugal\, CCRL\, com o apoio da CASES – Cooperativa António Sérgio para a Economia Social\, decorrem no dia 1 de julho\, no auditório da Gare Marítima da Rocha do Conde de Óbidos\, em Lisboa. \nPrograma e Inscrições aqui | Download Programa em pdf
URL:https://www.mutuapescadores.pt/event/dia-internacional-das-cooperativas-lisboa/
CATEGORIES:Eventos
END:VEVENT
END:VCALENDAR