BEGIN:VCALENDAR
VERSION:2.0
PRODID:-//Mútua dos Pescadores - ECPv6.15.20//NONSGML v1.0//EN
CALSCALE:GREGORIAN
METHOD:PUBLISH
X-ORIGINAL-URL:https://www.mutuapescadores.pt
X-WR-CALDESC:Eventos para Mútua dos Pescadores
REFRESH-INTERVAL;VALUE=DURATION:PT1H
X-Robots-Tag:noindex
X-PUBLISHED-TTL:PT1H
BEGIN:VTIMEZONE
TZID:Europe/Lisbon
BEGIN:DAYLIGHT
TZOFFSETFROM:+0000
TZOFFSETTO:+0100
TZNAME:WEST
DTSTART:20240331T010000
END:DAYLIGHT
BEGIN:STANDARD
TZOFFSETFROM:+0100
TZOFFSETTO:+0000
TZNAME:WET
DTSTART:20241027T010000
END:STANDARD
BEGIN:DAYLIGHT
TZOFFSETFROM:+0000
TZOFFSETTO:+0100
TZNAME:WEST
DTSTART:20250330T010000
END:DAYLIGHT
BEGIN:STANDARD
TZOFFSETFROM:+0100
TZOFFSETTO:+0000
TZNAME:WET
DTSTART:20251026T010000
END:STANDARD
BEGIN:DAYLIGHT
TZOFFSETFROM:+0000
TZOFFSETTO:+0100
TZNAME:WEST
DTSTART:20260329T010000
END:DAYLIGHT
BEGIN:STANDARD
TZOFFSETFROM:+0100
TZOFFSETTO:+0000
TZNAME:WET
DTSTART:20261025T010000
END:STANDARD
END:VTIMEZONE
BEGIN:VEVENT
DTSTART;TZID=Europe/Lisbon:20250529T140000
DTEND;TZID=Europe/Lisbon:20250529T170000
DTSTAMP:20260421T155344
CREATED:20250513T133016Z
LAST-MODIFIED:20250513T133337Z
UID:15853-1748527200-1748538000@www.mutuapescadores.pt
SUMMARY:Assembleia Geral
DESCRIPTION:Convocam-se os cooperadores da Mútua dos Pescadores para a sua Assembleia Geral\, a 29 de maio\, para discussão e aprovação do Relatório de Gestão e Contas Consolidado. \nDepois de ter sido já aprovado pelos cooperadores da Mútua dos Pescadores o Relatório de Gestão e Contas\, que reflete a atividade da cooperativa em 2024\, irá realizar-se agora a Assembleia geral para apreciação\, discussão e votação da proposta de Relatório de Gestão Consolidado\, que traduz a atividade do Grupo\, onde se inclui a empresa Ponto Seguro – Mediação de Seguros\, S.A.\, durante o ano de 2024. \nPara além do Relatório serão ainda colocados à apreciação dos cooperadores\, os documentos de Prestação de Contas Consolidadas\, bem como da Certificação Legal de Contas Consolidadas e do Parecer do Conselho Fiscal e respetivas conclusões\, referentes ao exercício de 2024\, que integram o Relatório de Gestão. \n\nASSEMBLEIA GERAL\nCONVOCATÓRIA \nNos termos legais e estatutários\, é convocada a Assembleia Geral da Mútua dos Pescadores – Mútua de Seguros\, C.R.L.\, com o capital social variável mínimo de 6.000.000 de Euros\, com sede em Lisboa\, na Avenida Santos Dumont\, n.º 57 – 6.º\, 7.º e 8.º\, registada na Conservatória do Registo Comercial de Lisboa sob o n.º 16.616\, para reunir no dia 29 de maio de 2025\, pelas 14 horas\, na sua sede\, na morada acima indicada\, tendo a seguinte \nOrdem de Trabalhos: \n1.º – Apreciação\, discussão e votação da proposta de Relatório de Gestão Consolidado\, documentos de Prestação de Contas Consolidadas\, bem como da Certificação Legal de Contas Consolidadas e do Parecer do Conselho Fiscal e respetivas conclusões\, referentes ao exercício de 2024; \n2.º – Outros Assuntos. \nOs documentos de apoio à reunião encontram-se disponíveis para consulta na sede e balcões da cooperativa\, podendo ser solicitado o seu envio por correio eletrónico através do endereço geral@mutuapescadores.pt até ao dia 21 de maio de 2025. \nNos termos do n.º 2\, do artigo 35.º dos Estatutos\, se à hora marcada não estiverem presentes mais de metade dos cooperadores com direito a voto a assembleia reunirá validamente meia hora depois com qualquer número de participantes. \nLisboa\, 9 de maio de 2025\nO Presidente da Mesa da Assembleia Geral\nRui Manuel Barbosa Coelho e Campos\n\n\n Convocatória em PDF
URL:https://www.mutuapescadores.pt/event/assembleia-geral-2/
CATEGORIES:Eventos
END:VEVENT
BEGIN:VEVENT
DTSTART;VALUE=DATE:20250531
DTEND;VALUE=DATE:20250601
DTSTAMP:20260421T155344
CREATED:20250530T135917Z
LAST-MODIFIED:20250530T152135Z
UID:15905-1748649600-1748735999@www.mutuapescadores.pt
SUMMARY:Dia Nacional do Pescador
DESCRIPTION:Celebrar este dia é também evocar algumas conquistas destes profissionais por condições de trabalho mais dignas\, como aconteceu com o estabelecimento de um regime jurídico do contrato individual de trabalho a bordo das embarcações de pesca\, num diploma que saiu há 28 anos atrás\, no dia 31 de maio de 1997.\n“A todos o nosso enorme agradecimento\, reafirmando que poderão sempre contar com a Mútua dos Pescadores na linha da frente para defender a pesca em Portugal\, os seus profissionais\, empresas.” \n\nA Mútua dos Pescadores celebra o Dia Nacional do Pescador – dia 31 de maio.\nAs efemérides são importantes marcos simbólicos e de celebração. Datas que não devemos deixar passar de forma ligeira ou sem lhe dar a relevância que merecem. \nDefender a pesca\, a valorização e dignificação dos nossos pescadores e das suas comunidades é para nós um ponto de honra\, um desígnio\, uma missão de todos os dias. \nA Mútua dos Pescadores vem assim prestar a justa homenagem a todos aqueles que se fazem ao mar diariamente para abastecer o país de pescado\, contribuindo para alimentar as nossas populações e para a soberania alimentar do país\, desenvolvendo práticas e culturas imemoriais que nos definem enquanto povo\, e que urge defender\, potenciar e disseminar o que somos\, preparando o futuro que seremos. \nA todos o nosso enorme agradecimento\, reafirmando que poderão sempre contar com a Mútua dos Pescadores na linha da frente para defender a pesca em Portugal\, os seus profissionais\, empresas. \nA todos\, e nas várias comunidades ao longo do nosso país\, desejamos um grande Dia Nacional do Pescador! \nConselho de Administração da Mútua dos Pescadores\nPara o Dia Nacional do Pescador 2025\n\nNas comunidades piscatórias\, um pouco por todo o País\, este dia é vivido em Festa\, mas também com debates e outras iniciativas. Nalgumas comunidades a Festa teve início há mais dias\, sendo já tradição viver-se a semana do pescador\, como no Concelho de Vila do Conde. \nAqui fica um retrato dessas iniciativas\, onde também a Mútua marca presença. \n\n			\n				\n			\n				\n				Lagos\n				\n			\n				\n			\n				\n				Peniche\n				\n			\n				\n			\n				\n				Portimão\n				\n			\n				\n			\n				\n				Quarteira\n				\n			\n				\n			\n				\n				Sesimbra\n				\n			\n				\n			\n				\n				Setubal\n				\n			\n				\n			\n				\n				Sines\n				\n			\n				\n			\n				\n				Viana do Castelo \n				\n			\n				\n			\n				\n				Vila do Conde
URL:https://www.mutuapescadores.pt/event/dia-nacional-do-pescador/
CATEGORIES:Eventos
END:VEVENT
END:VCALENDAR