BEGIN:VCALENDAR
VERSION:2.0
PRODID:-//Mútua dos Pescadores - ECPv6.15.20//NONSGML v1.0//EN
CALSCALE:GREGORIAN
METHOD:PUBLISH
X-WR-CALNAME:Mútua dos Pescadores
X-ORIGINAL-URL:https://www.mutuapescadores.pt
X-WR-CALDESC:Eventos para Mútua dos Pescadores
REFRESH-INTERVAL;VALUE=DURATION:PT1H
X-Robots-Tag:noindex
X-PUBLISHED-TTL:PT1H
BEGIN:VTIMEZONE
TZID:Europe/Lisbon
BEGIN:DAYLIGHT
TZOFFSETFROM:+0000
TZOFFSETTO:+0100
TZNAME:WEST
DTSTART:20230326T010000
END:DAYLIGHT
BEGIN:STANDARD
TZOFFSETFROM:+0100
TZOFFSETTO:+0000
TZNAME:WET
DTSTART:20231029T010000
END:STANDARD
BEGIN:DAYLIGHT
TZOFFSETFROM:+0000
TZOFFSETTO:+0100
TZNAME:WEST
DTSTART:20240331T010000
END:DAYLIGHT
BEGIN:STANDARD
TZOFFSETFROM:+0100
TZOFFSETTO:+0000
TZNAME:WET
DTSTART:20241027T010000
END:STANDARD
BEGIN:DAYLIGHT
TZOFFSETFROM:+0000
TZOFFSETTO:+0100
TZNAME:WEST
DTSTART:20250330T010000
END:DAYLIGHT
BEGIN:STANDARD
TZOFFSETFROM:+0100
TZOFFSETTO:+0000
TZNAME:WET
DTSTART:20251026T010000
END:STANDARD
END:VTIMEZONE
BEGIN:VEVENT
DTSTART;VALUE=DATE:20240518
DTEND;VALUE=DATE:20240701
DTSTAMP:20260421T224703
CREATED:20240514T080730Z
LAST-MODIFIED:20240514T080932Z
UID:14512-1715990400-1719791999@www.mutuapescadores.pt
SUMMARY:X Cruzeiro Religioso e Cultural do Tejo – IV Cruzeiro Ibérico do Tejo
DESCRIPTION:18 de maio a 30 de junho de 2024\nEntre Rosmaninhal/Alcántara e Oeiras\, unir-se-ão as margens do Rio Tejo\, para mais um encontro de culturas ribeirinhas. \nAs embarcações tradicionais irão percorrer uma distância de aproximadamente 300 Km\, durante 1 mês e meio\, aos fins-de-semana e feriados. O programa pode estar sujeito a ligeiros ajustamentos a alguns horários\, próprios de uma iniciativa vasta e complexa como é a do Cruzeiro do Tejo. \nEste ano e pelo segundo ano consecutivo\, o Cruzeiro terá o Alto Patrocínio da Presidência da República\, e pela primeira vez contará também com o envolvimento da Stella Maris-Portugal\, entidade da Igreja Católica Portuguesa para a fé\, junto das comunidades marítimas e fluviais. \nTrata-se em suma de “um evento cultural\, religioso e de proximidade com a natureza e as comunidades ribeirinhas. Não tem fins lucrativos e depende da boa-vontade de entidades como Câmaras Municipais\, Juntas de Freguesia\, Paróquias\, Associações e pessoas beneméritas.” \nA Mútua acompanha a Confraria Ibérica do Tejo e a organização deste Cruzeiro há já alguns anos\, sendo a seguradora da organização do evento ano após ano\, e felizmente sem percalços até à data!\nMas cá estaremos para o que der e vier!\nQue bons ventos levem todos os participantes! \n DOWNLOAD CARTAZ OFICIAL    DOWNLOAD MAPA  \nGaleria de imagens da organização\, da Procissão de 2023.
URL:https://www.mutuapescadores.pt/event/x-cruzeiro-religioso-e-cultural-do-tejo-iv-cruzeiro-iberico-do-tejo/
CATEGORIES:Eventos
ATTACH;FMTTYPE=image/jpeg:https://www.mutuapescadores.pt/wp-content/uploads/2024/05/3-Cruzeiro-em-imagens-16.jpg
END:VEVENT
BEGIN:VEVENT
DTSTART;TZID=Europe/Lisbon:20240602T101500
DTEND;TZID=Europe/Lisbon:20240602T123000
DTSTAMP:20260421T224703
CREATED:20240527T210448Z
LAST-MODIFIED:20240528T133141Z
UID:14596-1717323300-1717331400@www.mutuapescadores.pt
SUMMARY:Oficina de Sensibilização para a Segurança Marítima
DESCRIPTION:Mostra das Tradições Marítimas de Setúbal\, Parque Urbano de Albarquel\, 2 de junho\, 10h15\nA Mútua dos Pescadores\, consciente de que todos os esforços são importantes para minimizar os riscos e mitigar os impactos dos acidentes marítimos quando acontecem\, associou-se à iniciativa Mostra das Tradições Marítimas de Setúbal\, para dinamizar uma Oficina de Sensibilização para a Segurança Marítima\, no dia 2 de junho\, pelas 10h15. \nA iniciativa conta com o apoio da União de Freguesias de Setúbal\, e com a parceria da AIFE – Equipamento Náutico\, e Forsailing – formação náutica.  Está integrada na Mostra das Tradições Marítimas de Setúbal\, e pretende alertar para a importância da prevenção dos acidentes marítimos\, com o bom uso dos equipamentos de segurança\, entre outros. \nSerão feitas demonstrações práticas de vários exercícios e dos bons usos dos equipamentos de segurança. \nA oficina decorrerá ao ar livre\, com exercícios a partir de uma embarcação de pesca de Setúbal\, e conta também com algumas intervenções em terra que enquadram a sessão. \nA Mútua conta com a presença do Senhor Presidente da União de Freguesias de Setúbal\, Rui Manuel Canas e do Senhor Capitão do Porto de Setúbal e Comandante da Polícia Marítima\, Capitão-de-Fragata Marco Alexandre de Serrano Augusto. \nA Mútua pretende com a iniciativa alertar para a importância da prevenção dos acidentes marítimos\, com o bom uso dos equipamentos de segurança\, entre outros\, bem como contribuir para uma maior sensibilização da comunidade piscatória e marítima em geral para estas matérias aumentando a cultura de segurança e reduzindo os acidentes marítimos. \nA iniciativa pretende também evocar o Dia Europeu do Mar (20 de Maio) e o Dia do Pescador (31 de Maio).  \n\n\nSobre a Mostra das Tradições Marítimas de Setúbal acompanhar aqui
URL:https://www.mutuapescadores.pt/event/oficina-de-sensibilizacao-para-a-seguranca-maritima/
LOCATION:Parque Urbano de Albarquel\, Parque Urbano de Albarquel\, Setúbal\, Portugal
CATEGORIES:Eventos
END:VEVENT
BEGIN:VEVENT
DTSTART;VALUE=DATE:20240608
DTEND;VALUE=DATE:20240609
DTSTAMP:20260421T224703
CREATED:20240606T160913Z
LAST-MODIFIED:20240606T161040Z
UID:14737-1717804800-1717891199@www.mutuapescadores.pt
SUMMARY:Dia da Marinha do Tejo
DESCRIPTION:Aqui enviamos uma saudação à Marinha do Tejo e a todos os arrais e suas tripulações que animam as comunidades ribeirinhas e as suas tradições. \nCelebra-se mais um ano de vida desta Associação sem fins lucrativos que “tem como missão constituir-se como um polo vivo da soberania dos saberes e das tradições náuticas e marinheiras dos navegantes do Tejo para a preservação\, promoção e valorização do legado marítimo tradicional. ” \nE a Mútua associa-se ao evento!\nBoas celebrações! \nAcompanhar a Marinha do Tejo aqui
URL:https://www.mutuapescadores.pt/event/dia-da-marinha-do-tejo-2/
CATEGORIES:Eventos
END:VEVENT
BEGIN:VEVENT
DTSTART;VALUE=DATE:20240611
DTEND;VALUE=DATE:20240615
DTSTAMP:20260421T224703
CREATED:20240612T173913Z
LAST-MODIFIED:20240620T075348Z
UID:14765-1718064000-1718409599@www.mutuapescadores.pt
SUMMARY:Mútua celebra o futuro do mar e da pesca com os mais jovens
DESCRIPTION:Entre 11 e 13 de junho com o Mar de experiências em Setúbal. \nNo dia 14 de junho na Costa da Caparica\, com os alunos da escola da Voz do Operário\, em Lisboa\, o Mar de experiências e a Associação Ala Ala\, de Pescadores da Costa da Caparica. \n \n 
URL:https://www.mutuapescadores.pt/event/mutua-celebra-o-futuro-do-mar-e-da-pesca-com-os-mais-jovens/
CATEGORIES:Eventos
ATTACH;FMTTYPE=image/jpeg:https://www.mutuapescadores.pt/wp-content/uploads/2024/06/20240611_114259.jpg
END:VEVENT
END:VCALENDAR