BEGIN:VCALENDAR
VERSION:2.0
PRODID:-//Mútua dos Pescadores - ECPv6.15.20//NONSGML v1.0//EN
CALSCALE:GREGORIAN
METHOD:PUBLISH
X-WR-CALNAME:Mútua dos Pescadores
X-ORIGINAL-URL:https://www.mutuapescadores.pt
X-WR-CALDESC:Eventos para Mútua dos Pescadores
REFRESH-INTERVAL;VALUE=DURATION:PT1H
X-Robots-Tag:noindex
X-PUBLISHED-TTL:PT1H
BEGIN:VTIMEZONE
TZID:Europe/Lisbon
BEGIN:DAYLIGHT
TZOFFSETFROM:+0000
TZOFFSETTO:+0100
TZNAME:WEST
DTSTART:20230326T010000
END:DAYLIGHT
BEGIN:STANDARD
TZOFFSETFROM:+0100
TZOFFSETTO:+0000
TZNAME:WET
DTSTART:20231029T010000
END:STANDARD
BEGIN:DAYLIGHT
TZOFFSETFROM:+0000
TZOFFSETTO:+0100
TZNAME:WEST
DTSTART:20240331T010000
END:DAYLIGHT
BEGIN:STANDARD
TZOFFSETFROM:+0100
TZOFFSETTO:+0000
TZNAME:WET
DTSTART:20241027T010000
END:STANDARD
BEGIN:DAYLIGHT
TZOFFSETFROM:+0000
TZOFFSETTO:+0100
TZNAME:WEST
DTSTART:20250330T010000
END:DAYLIGHT
BEGIN:STANDARD
TZOFFSETFROM:+0100
TZOFFSETTO:+0000
TZNAME:WET
DTSTART:20251026T010000
END:STANDARD
END:VTIMEZONE
BEGIN:VEVENT
DTSTART;TZID=Europe/Lisbon:20240516T180000
DTEND;TZID=Europe/Lisbon:20240519T200000
DTSTAMP:20260421T211442
CREATED:20240513T132648Z
LAST-MODIFIED:20240513T132827Z
UID:14483-1715882400-1716148800@www.mutuapescadores.pt
SUMMARY:Feira Náutica de Setúbal
DESCRIPTION:De 16 a 19 de maio\, Cais 3\, Setúbal\nA Mútua marca presença pela segunda vez neste certame dedicado à Náutica de Recreio e atividades ao ar livre\, de cariz regional\, que vai na sua 3.ª edição! \n“Exposições\, atividades náuticas e de montanha\, open days\, venda de material e workshops integram o programa da Feira Náutica de Setúbal” que\, não obstante o forte cariz regional\, de proximidade com os visitantes\, é também uma oportunidade de “negócio e de divulgação de serviços de empresas portuguesas e estrangeiras”. \nProvas desportivas\, nomeadamente uma Regata de Vela de Cruzeiro e o Alpertuche Nautic Tour\, um passeio de canoagem e paddle a partir do Parque Urbano de Albarquel\, e um painel gastronómico muito apelativo\, são o cartão de visita desta Feira\, que irá animar a zona ribeirinha de Setúbal\, nos próximos dias. \nVisite a Feira e visite-nos! Lá estaremos à sua espera.\nhttps://feiranauticasetubal.pt/ \n DOWNLOAD PROGRAMA\n\n \n 
URL:https://www.mutuapescadores.pt/event/feira-nautica-de-setubal-2/
CATEGORIES:Eventos
ATTACH;FMTTYPE=image/jpeg:https://www.mutuapescadores.pt/wp-content/uploads/2024/05/FeiraNautica24.jpg
END:VEVENT
BEGIN:VEVENT
DTSTART;VALUE=DATE:20240517
DTEND;VALUE=DATE:20240521
DTSTAMP:20260421T211442
CREATED:20240514T085423Z
LAST-MODIFIED:20240514T085423Z
UID:14517-1715904000-1716249599@www.mutuapescadores.pt
SUMMARY:Nazaré Marés de Maio celebra o Dia Europeu do Mar\, da Marinha e da Escola Azul
DESCRIPTION:De 17 a 20 de Maio de 2024\nIntegrado na sexta edição do NAZARÉ MARÉS DE MAIO 2024\, a Associação com o mesmo nome\, em parceria com as diversas forças vivas da região\, dedica um fim de semana a celebrar a economia e cultura marítima. \nO programa é composto por diversas iniciativas que decorrem nas instalações da Fundação Mário Botas\, sitas na Avenida Vieira Guimarães (junto à PSP) e no porto da Nazaré\, e é composto por uma exposição que aborda as respetivas atividades\, palestras e visitas ao navio hidrográfico da Marinha Portuguesa (inscrições prévias aqui). \nA Mútua integra a parceria do Nazaré Marés de Maio\, e não podemos deixar de destacar a conversa em torno do Livro “Na língua da Maré”\, no dia 20 de maio\, pelas 10h30. Uma sessão que contará com estudantes da Nazaré mas que será aberta a todos os que queiram participar\, e com o seu saber e experiência\, contribuir para uma maior literacia em torno da cultura marítima. \nPrograma \nSexta-feira\, dia 17 de maio de 2024 \n\n  9:30 – Abertura das instalações\n10:00 – Apresentação da exposição dos parceiros apresentada pelos próprios.\n10:30 – INÍCIO DO 1º CICLO DE PALESTRAS DINÂMICAS:\nOCEANO FRESCO – Andreia Cruz abordará o tema AMEIJOAS:UM ALIMENTO SUSTENTÁVEL\n11:00 – HIDROVAL – Sofia Domingues abordará o tema PEGADA HÍDRICA DA SOCIEDADE\n11:45 – INSTITUTO HIDROGRÁFICO DA MARINHA PORTUGUESA – João Vitorino irá abordar o tema OBSERVAR PARA COMPREENDER E PREVER\n14:30 – Início das visitas ao navio no porto da Nazaré (inscrições prévias aqui)\nVisita à exposição e projeção de documentários sobre Mário Botas  e/ou os Oceanos\n\nSábado\, 18 de maio de 2024 \n\n  9:30 – Início das visitas ao navio no porto da Nazaré (inscrições prévias)\n14:30 – Reabertura das visitas ao navio no porto da Nazaré (inscrições prévias)\nAbertura das instalações da Fundação Mário Botas\n15:00   Projeção de documentários sobre Mário Botas  e/ou os Oceanos\n17:30 – Encerramento das instalações da Fundação Mário Botas e das visitas ao navio\n\nDomingo\, 19 de maio de 2024 \n\n  9:30 – Início das visitas ao navio no porto da Nazaré (inscrições prévias)\n14:30 – Reabertura das visitas ao navio no porto da Nazaré (inscrições prévias)\nAbertura das instalações da Fundação Mário Botas\n15:00   Projeção de documentários sobre Mário Botas  e/ou os Oceanos\n17:30 – Encerramento das instalações da Fundação Mário Botas e das visitas ao navio\n\nSegunda-feira\, dia 20 de maio de 2024 \n\n10:00 – Abertura das instalações\n10:30 – «À CONVERSA COM … ABEL COENTRÃO e HELDER LUIS »\nautores do livro «Na Língua da Maré: Crónicas de mar e de mareantes\, 80 anos da Mútua dos Pescadores» e que terá os testemunhos de Francisco Formiga\, Dóris Santos e João Paulo Delgado\n14:00 – Início das visitas ao navio no porto da Nazaré (inscrições prévias)\nINÍCIO DO «2º CICLO DE PALESTRAS DINÂMICAS»\n14:15 – MARINHA PORTUGUESA/INSTITUTO HIDROGRÁFICO  João Vitorino aborda a temática «O CANHÃO DA NAZARÉ – UMA ÁREA CHAVE NA COMPREENSÃO DOS DESAFIOS QUE SE COLOCAM AO OCEANO COSTEIRO»\n14:45 – MARE – CENTRO DE CIÊNCIAS DO MAR E DO AMBIENTE – Sónia Cotrim\n15:15 – ANSN – NADADORES-SALVADORES NAZARÉ – Daniel Meco aborda as questões sobre SEGURANÇA NAS PRAIAS: AGUEIROS\n15:45 – UMA ESCOLA AZUL – Grupo de alunos do Externato Dom Fuas Roupinho apresentam a sua visão sobre «A CIÊNCIA QUE  PRECISAMOS PARA O OCEANO QUE QUEREMOS» (Década dos Oceanos- UNESCO)\n\nO «DIA EUROPEU DO MAR\, DA MARINHA E DA ESCOLA AZUL» conta com a colaboração e parceria da Fundação Mário Botas\, Marinha Portuguesa\, Instituto Hidrográfico\, Capitania do Porto da Nazaré\, Autoridade Marítima Nacional\, Polícia Marítima\, Instituto de Socorros a Náufragos\, Instituto Politécnico de Leiria\, Escola Superior de Tecnologias do Mar\, de Peniche\, MARE – Centro de Ciências do Mar e do Ambiente\, Associação Nadadores Salvadores da Nazaré\, Hidroval\, Oceano Fresco\, Docapesca\, Mútua dos Pescadores\, Núcleo Museológico do Mar e do Sal (Município da Figueira da Foz)\, Valorsul\, Externato Dom Fuas Roupinho\, DGPM/Escola Azul\, For-Mar\, Noroeste – Escola de Navegação da Nazaré\, Plano Nacional das Artes\, Clube de Fotografia da Nazaré. \nVisitas ao navio:  \n\nAs visitas ao navio serão feitas em grupo de 20 pessoas previamente inscritas\, por email ou preenchimento de formulário.\nA Associação Nazaré Marés de Maio constituirá os grupos e horários de visita conforme inscrições recebidas.\nOs pedidos devem ser feitos por formulário ou email para a Associação Nazaré Marés de Maio.\nNão são permitidas visitas individuais e grupos não inscritos ficam pendentes de disponibilidade nos restantes grupos.\nAs visitas demoram cerca de 30 a 45 minutos e as pessoas devem comparecer no cais até 15 minutos antes do horário que lhes for indicado pela organização.\n\nMais informações: nazaremaresdemaio@gmail.com
URL:https://www.mutuapescadores.pt/event/nazare-mares-de-maio-celebra-o-dia-europeu-do-mar-da-marinha-e-da-escola-azul/
CATEGORIES:Eventos
END:VEVENT
BEGIN:VEVENT
DTSTART;VALUE=DATE:20240518
DTEND;VALUE=DATE:20240701
DTSTAMP:20260421T211442
CREATED:20240514T080730Z
LAST-MODIFIED:20240514T080932Z
UID:14512-1715990400-1719791999@www.mutuapescadores.pt
SUMMARY:X Cruzeiro Religioso e Cultural do Tejo – IV Cruzeiro Ibérico do Tejo
DESCRIPTION:18 de maio a 30 de junho de 2024\nEntre Rosmaninhal/Alcántara e Oeiras\, unir-se-ão as margens do Rio Tejo\, para mais um encontro de culturas ribeirinhas. \nAs embarcações tradicionais irão percorrer uma distância de aproximadamente 300 Km\, durante 1 mês e meio\, aos fins-de-semana e feriados. O programa pode estar sujeito a ligeiros ajustamentos a alguns horários\, próprios de uma iniciativa vasta e complexa como é a do Cruzeiro do Tejo. \nEste ano e pelo segundo ano consecutivo\, o Cruzeiro terá o Alto Patrocínio da Presidência da República\, e pela primeira vez contará também com o envolvimento da Stella Maris-Portugal\, entidade da Igreja Católica Portuguesa para a fé\, junto das comunidades marítimas e fluviais. \nTrata-se em suma de “um evento cultural\, religioso e de proximidade com a natureza e as comunidades ribeirinhas. Não tem fins lucrativos e depende da boa-vontade de entidades como Câmaras Municipais\, Juntas de Freguesia\, Paróquias\, Associações e pessoas beneméritas.” \nA Mútua acompanha a Confraria Ibérica do Tejo e a organização deste Cruzeiro há já alguns anos\, sendo a seguradora da organização do evento ano após ano\, e felizmente sem percalços até à data!\nMas cá estaremos para o que der e vier!\nQue bons ventos levem todos os participantes! \n DOWNLOAD CARTAZ OFICIAL    DOWNLOAD MAPA  \nGaleria de imagens da organização\, da Procissão de 2023.
URL:https://www.mutuapescadores.pt/event/x-cruzeiro-religioso-e-cultural-do-tejo-iv-cruzeiro-iberico-do-tejo/
CATEGORIES:Eventos
ATTACH;FMTTYPE=image/jpeg:https://www.mutuapescadores.pt/wp-content/uploads/2024/05/3-Cruzeiro-em-imagens-16.jpg
END:VEVENT
BEGIN:VEVENT
DTSTART;TZID=Europe/Lisbon:20240529T140000
DTEND;TZID=Europe/Lisbon:20240529T180000
DTSTAMP:20260421T211442
CREATED:20240508T111835Z
LAST-MODIFIED:20240508T111949Z
UID:14451-1716991200-1717005600@www.mutuapescadores.pt
SUMMARY:Assembleia geral da Mútua para apreciação e votação de Relatório de gestão consolidado
DESCRIPTION:Na sequência da realização das Assembleias Gerais da Mútua dos Pescadores e da sua participada Ponto Seguro\, Mediação de Seguros\, SA\, terá lugar a Assembleia Geral da Mútua no próximo dia 29 de maio\, pela 14h00\, para aprovação do Relatório de Gestão consolidado e Prestação de Contas consolidadas de 2023\, entre outros assuntos do interesse da atividade de ambas as organizações. \nA Assembleia decorrerá na sede da Mútua em Lisboa\, na Avenida Santos Dumont\, n.º 57 – 6.º\, 7.º e 8.º\, e também por vídeo conferência de acordo com os termos da convocatória (PDF em baixo). \nA Assembleia tem a seguinte ordem de trabalhos: \n1.º – Apreciação\, discussão e votação do Relatório de Gestão Consolidado\, documentos de Prestação de Contas Consolidadas\, bem como da Certificação Legal de Contas Consolidadas e do Parecer do Conselho Fiscal e respetivas conclusões\, referentes ao exercício de 2023; \n2.º – Designação e tomada de posse de Renato José Rigueira Rodrigues como membro efetivo do Conselho de Administração\, para o período remanescente do mandato 2021-2024\, em consequência da renúncia de José Luís Marques Cabrita; \n3.º – Outros Assuntos. \n DOWNLOAD CONVOCATÓRIA \n\nFotografia de Tyler Nix\, Unsplash\n 
URL:https://www.mutuapescadores.pt/event/assembleia-geral-da-mutua-para-apreciacao-e-votacao-de-relatorio-de-gestao-consolidado-2/
CATEGORIES:Eventos
END:VEVENT
END:VCALENDAR