BEGIN:VCALENDAR
VERSION:2.0
PRODID:-//Mútua dos Pescadores - ECPv6.15.20//NONSGML v1.0//EN
CALSCALE:GREGORIAN
METHOD:PUBLISH
X-WR-CALNAME:Mútua dos Pescadores
X-ORIGINAL-URL:https://www.mutuapescadores.pt
X-WR-CALDESC:Eventos para Mútua dos Pescadores
REFRESH-INTERVAL;VALUE=DURATION:PT1H
X-Robots-Tag:noindex
X-PUBLISHED-TTL:PT1H
BEGIN:VTIMEZONE
TZID:Europe/Lisbon
BEGIN:DAYLIGHT
TZOFFSETFROM:+0000
TZOFFSETTO:+0100
TZNAME:WEST
DTSTART:20230326T010000
END:DAYLIGHT
BEGIN:STANDARD
TZOFFSETFROM:+0100
TZOFFSETTO:+0000
TZNAME:WET
DTSTART:20231029T010000
END:STANDARD
BEGIN:DAYLIGHT
TZOFFSETFROM:+0000
TZOFFSETTO:+0100
TZNAME:WEST
DTSTART:20240331T010000
END:DAYLIGHT
BEGIN:STANDARD
TZOFFSETFROM:+0100
TZOFFSETTO:+0000
TZNAME:WET
DTSTART:20241027T010000
END:STANDARD
BEGIN:DAYLIGHT
TZOFFSETFROM:+0000
TZOFFSETTO:+0100
TZNAME:WEST
DTSTART:20250330T010000
END:DAYLIGHT
BEGIN:STANDARD
TZOFFSETFROM:+0100
TZOFFSETTO:+0000
TZNAME:WET
DTSTART:20251026T010000
END:STANDARD
END:VTIMEZONE
BEGIN:VEVENT
DTSTART;TZID=Europe/Lisbon:20240414T093000
DTEND;TZID=Europe/Lisbon:20240414T130000
DTSTAMP:20260421T190836
CREATED:20240327T170703Z
LAST-MODIFIED:20240327T171551Z
UID:14303-1713087000-1713099600@www.mutuapescadores.pt
SUMMARY:ASSEMBLEIA GERAL DA MÚTUA DOS PESCADORES
DESCRIPTION:Convocam-se os cooperadores da Mútua dos Pescadores – Mútua de Seguros\, C.R.L.\, para a Assembleia Geral da Cooperativa no dia 14 de abril de 2024\, pelas 09:30 horas\, em Lisboa. \nA Assembleia decorre no hotel Holiday Inn Lisbon – Continental\, sito à Rua Laura Alves\, n.º 9\, Lisboa\, com a seguinte: \nOrdem de Trabalhos: \n1.º – Discussão e deliberação sobre o Relatório de Gestão\, documentos de Prestação de Contas\, Parecer do Conselho Fiscal e respetivas conclusões\, referentes ao exercício de 2023\, incluindo a forma de aplicação dos resultados; \n2.º – Discussão e deliberação sobre a proposta de aplicação do Fundo de Reserva para a educação cooperativa e formação cultural e técnica dos cooperadores\, trabalhadores e comunidade; \n3.º – Discussão e deliberação sobre o Relatório de Avaliação da Política de Remuneração; \n4.º – Outros assuntos relevantes. \nNÃO FALTE! \n DOWNLOAD CONVOCATÓRIA \n\nFoto de Sigmund na Unsplash
URL:https://www.mutuapescadores.pt/event/assembleia-geral-da-mutua-dos-pescadores-3/
LOCATION:Holiday Inn Lisbon – Continental\, Rua Laura Alves\, n.º 9\, Lisboa\, Portugal
CATEGORIES:Eventos
END:VEVENT
BEGIN:VEVENT
DTSTART;VALUE=DATE:20240417
DTEND;VALUE=DATE:20240422
DTSTAMP:20260421T190836
CREATED:20240408T083018Z
LAST-MODIFIED:20240408T133132Z
UID:14316-1713312000-1713743999@www.mutuapescadores.pt
SUMMARY:Nauticampo 2024
DESCRIPTION:Entre 17 e 21 de abril\, na FIL em Lisboa\nEste ano chega mais tarde do que o habitual e mais próxima do Verão que ela convoca! A Nauticampo aí está\, a maior Feira dedicada à náutica de recreio e às atividades ao ar livre. \nAno após ano\, regressamos ao nosso lugar cativo\, para quem vive e ama o mar. \nNão faltarão razões para repetir a visita ou nos conhecer! Continuamos a ser a única cooperativa de utentes de seguros portuguesa vocacionada para as atividades marítimas\, ao serviço dos seus utentes e comunidades. Estamos atentos às necessidades da sua embarcação ou atividade náutica\, em matéria de segurança\, e a procurar a melhor solução para si. \nPara quem vive o mar\, mas com outras soluções de proteção para todos. \nEstamos à sua espera no Stand Nº 2A07\n \nhttps://nauticampo.fil.pt/ \n \n 
URL:https://www.mutuapescadores.pt/event/nauticampo-2024/
CATEGORIES:Eventos
ATTACH;FMTTYPE=image/jpeg:https://www.mutuapescadores.pt/wp-content/uploads/2024/04/NAUTICAMPO-BANNER2.jpg
END:VEVENT
END:VCALENDAR