BEGIN:VCALENDAR
VERSION:2.0
PRODID:-//Mútua dos Pescadores - ECPv6.15.20//NONSGML v1.0//EN
CALSCALE:GREGORIAN
METHOD:PUBLISH
X-ORIGINAL-URL:https://www.mutuapescadores.pt
X-WR-CALDESC:Eventos para Mútua dos Pescadores
REFRESH-INTERVAL;VALUE=DURATION:PT1H
X-Robots-Tag:noindex
X-PUBLISHED-TTL:PT1H
BEGIN:VTIMEZONE
TZID:Europe/Lisbon
BEGIN:DAYLIGHT
TZOFFSETFROM:+0000
TZOFFSETTO:+0100
TZNAME:WEST
DTSTART:20230326T010000
END:DAYLIGHT
BEGIN:STANDARD
TZOFFSETFROM:+0100
TZOFFSETTO:+0000
TZNAME:WET
DTSTART:20231029T010000
END:STANDARD
BEGIN:DAYLIGHT
TZOFFSETFROM:+0000
TZOFFSETTO:+0100
TZNAME:WEST
DTSTART:20240331T010000
END:DAYLIGHT
BEGIN:STANDARD
TZOFFSETFROM:+0100
TZOFFSETTO:+0000
TZNAME:WET
DTSTART:20241027T010000
END:STANDARD
BEGIN:DAYLIGHT
TZOFFSETFROM:+0000
TZOFFSETTO:+0100
TZNAME:WEST
DTSTART:20250330T010000
END:DAYLIGHT
BEGIN:STANDARD
TZOFFSETFROM:+0100
TZOFFSETTO:+0000
TZNAME:WET
DTSTART:20251026T010000
END:STANDARD
END:VTIMEZONE
BEGIN:VEVENT
DTSTART;TZID=Europe/Lisbon:20240124T123000
DTEND;TZID=Europe/Lisbon:20240124T170000
DTSTAMP:20260421T155303
CREATED:20240117T144847Z
LAST-MODIFIED:20240117T145354Z
UID:14228-1706099400-1706115600@www.mutuapescadores.pt
SUMMARY:Prémio António Sérgio 2023 - Jerónimo Teixeira consagrado Personalidade da Economia Social
DESCRIPTION:Cerimónia Pública Solene Prémio António Sérgio 2023 > 24 jan.´24 | Lisboa \nO antigo Diretor Geral e atual Presidente da Mesa da Assembleia Geral da Mútua dos Pescadores\, José Manuel Jerónimo Teixeira\, foi consagrado Personalidade da Economia Social 2023\, pelo júri do prémio Cooperação e Solidariedade António Sérgio. \nO Prémio Cooperação e Solidariedade António Sérgio\, criado pela CASES em 2012\, destina-se a homenagear as pessoas singulares e coletivas que\, em cada ano\, mais se tenham distinguido em domínios relevantes para a Economia Social\, contando com seis categorias e um Prémio de Honra. \nO Prémio António Sérgio 2023 distingue 7 projetos vencedores: 1 na categoria Inovação e Sustentabilidade\, 2 na categoria Estudos e Investigação\, 1 na categoria Estudos e Investigação na Lusofonia\, 1 na categoria Trabalhos de Âmbito Escolar e 2 na categoria Trabalhos Jornalísticas; atribuindo também 7 menções honrosas. Na categoria Personalidade do Ano da Economia Social\, reconheceu José Manuel Jerónimo Teixeira (Prémio Honra à Carreira). \nJerónimo Teixeira\, como é por todos conhecido\, é uma figura ímpar da história da Mútua\, tendo protagonizado os principais momentos da sua história\, desde os anos 80: a crise de 1984\, a integração da Mútua da Sardinha\, a abertura a outras atividades para além da pesca\, e a transformação em cooperativa. \nDesde 1984 foi\, sucessivamente\, o seu Diretor-geral ao longo de 34 anos\, em 2017 assumiu um mandato de quatro anos na qualidade de Presidente do Conselho de Administração\, sendo desde 2021 o Presidente da Mesa da Assembleia Geral. É sua a expressão de que “a Mútua foi e será a minha segunda casa”. \nJosé Manuel Jerónimo Teixeira\, nasceu a 5 de março de 1953 no Porto\, mas a sua terra é Carviçais\, Trás-os-Montes. Terra que sempre acarinhou e o acarinhou também. \nLicenciado em economia\, foi no percurso que fez no Sindicato dos Metalúrgicos de Lisboa (desde 1974)\, na Federação dos Sindicatos da Metalurgia e Minas (desde 1978) e depois no SITAVA – Sindicato dos Trabalhadores e Aviação (desde 1981)\, muito ligado às questões da contratação coletiva\, que ganhou a sua bagagem profissional e a experiência com que viria a abraçar a Mútua dos Pescadores em 1984. \nRecordamos as suas palavras numa entrevista à Marés\, por ocasião dos 80 anos da Mútua dos Pescadores\, “Após 10 anos de trabalho na frente sindical é natural que tentasse outra experiência e que um novo desafio me atraísse. Não era especialista em seguros nem tinha proximidade com a pesca. Nunca fui aventureiro\, mas sempre gostei de desafios que me permitissem pôr à prova. Filho de um comerciante com grande enraizamento na sua comunidade e de uma professora primária de quem os alunos guardaram boas recordações\, não foi difícil fazer a minha opção de classe. Depois dos metalúrgicos\, dos trabalhadores da aviação e aeroportos\, agora\, eram os pescadores que eu iria conhecer e servir.” \nPessoa respeitada no setor da Economia Social\, durante oito anos assumindo\, em nome da Fenacoop\, a Presidência da CONFECOOP\, Confederação Cooperativa Portuguesa\, e quatro anos na Direção da CASES\, Cooperativa António Sérgio para a Economia Social\, Regulador do Setor Cooperativo em Portugal\, entre outros cargos e projetos.  \nAqui felicitamos Jerónimo Teixeira pelo merecido prémio\, que é para a Mútua dos Pescadores motivo de orgulho também. \n\n\n\n\n\n  \n\nIniciativa de entrega dos Prémios aberta ao Público\, mas sujeita a inscrição\nVencedores PAS edição 2023 \nA entrega dos Prémios decorrerá no dia 24 de janeiro em Lisboa\, no Salão Nobre da Voz do Operário\, a partir das 12h30.\nP R O G R A M A\nI N S C R I Ç Õ E S ( até 21 de janeiro ) \nMais informação: # PAS.´23 // Prémio António Sérgio 2023 > 24 jan.´24 | Lisboa – CASES – Cooperativa António Sérgio para a Economia Social
URL:https://www.mutuapescadores.pt/event/jeronimo-teixeira-consagrado-personalidade-da-economia-social/
CATEGORIES:Eventos
ATTACH;FMTTYPE=image/jpeg:https://www.mutuapescadores.pt/wp-content/uploads/2024/01/PAS23.jpg
END:VEVENT
END:VCALENDAR