BEGIN:VCALENDAR
VERSION:2.0
PRODID:-//Mútua dos Pescadores - ECPv6.15.20//NONSGML v1.0//EN
CALSCALE:GREGORIAN
METHOD:PUBLISH
X-WR-CALNAME:Mútua dos Pescadores
X-ORIGINAL-URL:https://www.mutuapescadores.pt
X-WR-CALDESC:Eventos para Mútua dos Pescadores
REFRESH-INTERVAL;VALUE=DURATION:PT1H
X-Robots-Tag:noindex
X-PUBLISHED-TTL:PT1H
BEGIN:VTIMEZONE
TZID:Europe/Lisbon
BEGIN:DAYLIGHT
TZOFFSETFROM:+0000
TZOFFSETTO:+0100
TZNAME:WEST
DTSTART:20220327T010000
END:DAYLIGHT
BEGIN:STANDARD
TZOFFSETFROM:+0100
TZOFFSETTO:+0000
TZNAME:WET
DTSTART:20221030T010000
END:STANDARD
BEGIN:DAYLIGHT
TZOFFSETFROM:+0000
TZOFFSETTO:+0100
TZNAME:WEST
DTSTART:20230326T010000
END:DAYLIGHT
BEGIN:STANDARD
TZOFFSETFROM:+0100
TZOFFSETTO:+0000
TZNAME:WET
DTSTART:20231029T010000
END:STANDARD
BEGIN:DAYLIGHT
TZOFFSETFROM:+0000
TZOFFSETTO:+0100
TZNAME:WEST
DTSTART:20240331T010000
END:DAYLIGHT
BEGIN:STANDARD
TZOFFSETFROM:+0100
TZOFFSETTO:+0000
TZNAME:WET
DTSTART:20241027T010000
END:STANDARD
END:VTIMEZONE
BEGIN:VEVENT
DTSTART;VALUE=DATE:20231104
DTEND;VALUE=DATE:20231105
DTSTAMP:20260421T123537
CREATED:20230516T154445Z
LAST-MODIFIED:20231030T090648Z
UID:13433-1699056000-1699142399@www.mutuapescadores.pt
SUMMARY:Na língua da Maré - Apresentação do Livro – Peniche
DESCRIPTION:O Livro e o Espetáculo criados para assinalar os 80 anos da Mútua dos Pescadores continuarão a desbravar novos mares e a procurar novos leitores e ouvintes\, pela terra adentro. \n4 de Novembro\, 16h00\, Peniche\, Auditório do edifício cultural (Espetáculo Maré será apresentado em 2024\, em junho). \nMais informações \n\n  \nAcompanhe os projetos e embarque nesta viagem na língua da maré! \nNa língua da Maré:\nhttps://www.mutuapescadores.pt/na-lingua-da-mare/\nhttps://m.facebook.com/story.php \nMaré:\nwww.sonsvadios.pt/mare\nwww.facebook.com/mare.sonsvadios\nwww.instagram.com/mare.sonsvadios \nhttps://www.mutuapescadores.pt/viagem-pela-lingua-da-mare/ \n©2022 Helder Luís\n 
URL:https://www.mutuapescadores.pt/event/na-lingua-da-mare-apresentacao-do-livro-e-espetaculo-data-a-anunciar/
CATEGORIES:Eventos
ATTACH;FMTTYPE=image/jpeg:https://www.mutuapescadores.pt/wp-content/uploads/2023/10/imagem-02-LivroMutuaPeniche.jpg
END:VEVENT
BEGIN:VEVENT
DTSTART;TZID=Europe/Lisbon:20231122T090000
DTEND;TZID=Europe/Lisbon:20231122T180000
DTSTAMP:20260421T123537
CREATED:20231116T145337Z
LAST-MODIFIED:20231116T163814Z
UID:14139-1700643600-1700676000@www.mutuapescadores.pt
SUMMARY:Encontro do Mar em Setúbal
DESCRIPTION:100 Anos do Porto de Setúbal\nNo dia 22 de Novembro vai decorrer em Setúbal o “Encontro do Mar”\, uma parceria entre a Associação Economia Azul\, Câmara Municipal de Setúbal e Porto de Setúbal\, no âmbito das comemorações dos 100 anos do Porto. \nO Encontro do Mar inclui uma iniciativa nos Agrupamentos de Escolas\, uma sessão no auditório do cineteatro “Charlot”\, e uma mini exposição de empresas também naquele local. \nA história do Porto de Setúbal e a sua relação com a cidade são o tema em foco das várias intervenções\, tendo a Mútua dos Pescadores sido convidada a intervir\, com o tema das pescas na região\, que ficará a cargo do Presidente\, João Delgado. \nTodos serão bem vindos!
URL:https://www.mutuapescadores.pt/event/encontro-do-mar-em-setubal/
CATEGORIES:Eventos
ATTACH;FMTTYPE=image/jpeg:https://www.mutuapescadores.pt/wp-content/uploads/2023/11/Encontro-do-Mar-1.jpg
END:VEVENT
BEGIN:VEVENT
DTSTART;TZID=Europe/Lisbon:20231129T150000
DTEND;TZID=Europe/Lisbon:20231129T170000
DTSTAMP:20260421T123537
CREATED:20231127T080650Z
LAST-MODIFIED:20231127T080650Z
UID:14153-1701270000-1701277200@www.mutuapescadores.pt
SUMMARY:Armazém 37 – Por uma pesca sustentável
DESCRIPTION:Inauguração de novo espaço da Bivalmar\, OP de Setúbal\nNo dia 29 de novembro inaugura o novo espaço da Organização de Produtores Bivalmar\, a partir das 15h00\, com a presença da Secretária de Estado das Pescas\, Teresa Coelho. \nSerá apresentada a exposição “No Estuário: Margens e Comunidades do Sado”\, com material cedido pelos pescadores da Gâmbia\, Faralhão e Carrasqueira\, e lançada a conserva do lingueirão\, da Bivalmar. No final da iniciativa será feita uma degustação de bivalves. \nCarlos Pratas\, pela Bivalmar\, apresenta o novo espaço\, seguindo-se as intervenções do Presidente da Câmara Municipal de Setúbal\, André Martins\, e de João Delgado\, Presidente da Mútua dos Pescadores. \nO espaço pretende ser um novo ponto de encontro para os associados da Bivalmar\, e aberto à comunidade\, para o desenvolvimento de iniciativas de caráter social e cultural\, ligadas à pesca. \n \n 
URL:https://www.mutuapescadores.pt/event/armazem-37-por-uma-pesca-sustentavel/
CATEGORIES:Eventos
END:VEVENT
END:VCALENDAR