BEGIN:VCALENDAR
VERSION:2.0
PRODID:-//Mútua dos Pescadores - ECPv6.15.20//NONSGML v1.0//EN
CALSCALE:GREGORIAN
METHOD:PUBLISH
X-WR-CALNAME:Mútua dos Pescadores
X-ORIGINAL-URL:https://www.mutuapescadores.pt
X-WR-CALDESC:Eventos para Mútua dos Pescadores
REFRESH-INTERVAL;VALUE=DURATION:PT1H
X-Robots-Tag:noindex
X-PUBLISHED-TTL:PT1H
BEGIN:VTIMEZONE
TZID:Europe/Lisbon
BEGIN:DAYLIGHT
TZOFFSETFROM:+0000
TZOFFSETTO:+0100
TZNAME:WEST
DTSTART:20220327T010000
END:DAYLIGHT
BEGIN:STANDARD
TZOFFSETFROM:+0100
TZOFFSETTO:+0000
TZNAME:WET
DTSTART:20221030T010000
END:STANDARD
BEGIN:DAYLIGHT
TZOFFSETFROM:+0000
TZOFFSETTO:+0100
TZNAME:WEST
DTSTART:20230326T010000
END:DAYLIGHT
BEGIN:STANDARD
TZOFFSETFROM:+0100
TZOFFSETTO:+0000
TZNAME:WET
DTSTART:20231029T010000
END:STANDARD
BEGIN:DAYLIGHT
TZOFFSETFROM:+0000
TZOFFSETTO:+0100
TZNAME:WEST
DTSTART:20240331T010000
END:DAYLIGHT
BEGIN:STANDARD
TZOFFSETFROM:+0100
TZOFFSETTO:+0000
TZNAME:WET
DTSTART:20241027T010000
END:STANDARD
END:VTIMEZONE
BEGIN:VEVENT
DTSTART;TZID=Europe/Lisbon:20230304T144500
DTEND;TZID=Europe/Lisbon:20230304T170000
DTSTAMP:20260421T111428
CREATED:20230216T180212Z
LAST-MODIFIED:20230302T113223Z
UID:13128-1677941100-1677949200@www.mutuapescadores.pt
SUMMARY:Olhão - Apresentação do Livro “Na língua da Maré\, Crónicas de mar e de mareantes”
DESCRIPTION:4 de março\, Olhão\nDez anos volvidos sobre edição da obra “Mútua dos Pescadores: Biografia de uma Seguradora da Economia Social”\, da autoria de Álvaro Garrido\, editada pela Âncora\, surgiu um novo desafio para complementar aquilo que ainda não estava escrito\, o que ainda não tinha sido dito\, rostos e paisagens que ainda não tinham sido captados\, mas que são a substância e a razão de ser da Cooperativa. \n\nEsqueça\, por momentos\, a monotonia dos búzios.\nPor esta costa fora\, homens e mulheres que ousaram enfunar o peito e deixar para trás a praia da infância são\, acredite\, melhor refúgio para um mar que não fala\, mas que se espraia\, múltiplo\, nas vozes dos que lhe sobrevivem.\nPalavras de quem\, de terra\, as escuta e as guarda\, num labor de salgador de memórias!\nAproxime o ouvido. No mundo\, não há apenas três\, mas quatro tipos de seres humanos: os vivos\, os mortos\, os que vivem no mar e os que aguardam\, na inquietude das aves\, sinais do seu regresso\, para os procurar na língua da maré. \nAbel Coentrão \n\nNa “Língua da Maré\, Crónicas de mar e mareantes“\, foi uma obra de grande fôlego\, produzida durante o ano de 2022\, para assinalar os oitenta anos da Mútua dos Pescadores\, da autoria de Abel Coentrão\, jornalista e Helder Luís\, fotógrafo e designer. \nFoi apresentada na Sessão de Encerramento das comemorações do 80.º Aniversário\, na Gare Marítima de Alcântara\, em Lisboa\, e estamos cientes de que contribuirá para uma melhor compreensão do peso simbólico\, económico\, social e político do sector marítimo em Portugal\, e que\, através dele\, se valorizem também as vidas das pessoas e das comunidades que são\, desde o primeiro dia\, a razão de ser desta cooperativa de utentes de seguros fundada em 1942. \n\nO livro seguirá o seu caminho próprio\, mas a Mútua faz questão de o apresentar nalguns locais\, estando já previstas as seguintes sessões: \n\n4 de março\, Olhão\, 14h45\, Sala Polivalente da Biblioteca Municipal de Olhão.\nApoio CM Olhão e Biblioteca Municipal\n5 de março\, Setúbal\, 15h30\, Casa da Baía de Setúbal. Com a participação do Coro Mútua.\nApoio CM Setúbal e Associação Setubalpesca / integrado na iniciativa local “A vida por cima d’água”\nAbril\, Peniche (integrado nas celebrações do 25 de Abril)\nMaio/Junho\, Vila do Conde (integrado nas celebrações do Dia do Pescador)\nJulho\, Nazaré\, durante a Feira do Livro\nOutubro\, Sines\nNovembro\, Sesimbra (integrado nas celebrações do Dia Nacional do Mar)\n\nAlgumas destas sessões serão integradas em iniciativas mais amplas\, que contarão com o espetáculo “Maré”\, criado pela cooperativa cultural Sons Vadios para assinalar os 80 anos da Mútua\, estreado na sessão de encerramento\, em novembro. Também o Coro Mútua participará nalguns momentos. \nAcompanhe no nosso site e Facebook! \nO Livro será distribuído pela Editora Âncora\, esteja atento!\nhttps://www.ancora-editora.pt/ \nFicha técnica\nEdição: Mútua dos Pescadores\nConceção: Abel Coentrão e Helder Luís\nTexto: Abel Coentrão\nFotografias e design gráfico: Helder Luís\nRevisão: Mário Azevedo\nProdução: Abel Coentrão e Mútua dos Pescadores\nImpressão e acabamentos: Norprint – a casa do Livro\nDistribuição: Âncora Editora\n Download Brochura
URL:https://www.mutuapescadores.pt/event/apresentacao-do-livro-na-lingua-da-mare/
CATEGORIES:Eventos
ATTACH;FMTTYPE=image/jpeg:https://www.mutuapescadores.pt/wp-content/uploads/2023/02/Na-lingua-da-mare-Livro-Capa.jpg
END:VEVENT
BEGIN:VEVENT
DTSTART;TZID=Europe/Lisbon:20230305T153000
DTEND;TZID=Europe/Lisbon:20230305T180000
DTSTAMP:20260421T111428
CREATED:20230216T180600Z
LAST-MODIFIED:20230302T113301Z
UID:13131-1678030200-1678039200@www.mutuapescadores.pt
SUMMARY:Setubal - Apresentação do Livro “Na língua da Maré\, Crónicas de mar e de mareantes”
DESCRIPTION:5 de março\, Setubal\nDez anos volvidos sobre edição da obra “Mútua dos Pescadores: Biografia de uma Seguradora da Economia Social”\, da autoria de Álvaro Garrido\, editada pela Âncora\, surgiu um novo desafio para complementar aquilo que ainda não estava escrito\, o que ainda não tinha sido dito\, rostos e paisagens que ainda não tinham sido captados\, mas que são a substância e a razão de ser da Cooperativa. \n\nEsqueça\, por momentos\, a monotonia dos búzios.\nPor esta costa fora\, homens e mulheres que ousaram enfunar o peito e deixar para trás a praia da infância são\, acredite\, melhor refúgio para um mar que não fala\, mas que se espraia\, múltiplo\, nas vozes dos que lhe sobrevivem.\nPalavras de quem\, de terra\, as escuta e as guarda\, num labor de salgador de memórias!\nAproxime o ouvido. No mundo\, não há apenas três\, mas quatro tipos de seres humanos: os vivos\, os mortos\, os que vivem no mar e os que aguardam\, na inquietude das aves\, sinais do seu regresso\, para os procurar na língua da maré. \nAbel Coentrão \n\nNa “Língua da Maré\, Crónicas de mar e mareantes“\, foi uma obra de grande fôlego\, produzida durante o ano de 2022\, para assinalar os oitenta anos da Mútua dos Pescadores\, da autoria de Abel Coentrão\, jornalista e Helder Luís\, fotógrafo e designer. \nFoi apresentada na Sessão de Encerramento das comemorações do 80.º Aniversário\, na Gare Marítima de Alcântara\, em Lisboa\, e estamos cientes de que contribuirá para uma melhor compreensão do peso simbólico\, económico\, social e político do sector marítimo em Portugal\, e que\, através dele\, se valorizem também as vidas das pessoas e das comunidades que são\, desde o primeiro dia\, a razão de ser desta cooperativa de utentes de seguros fundada em 1942. \n\nO livro seguirá o seu caminho próprio\, mas a Mútua faz questão de o apresentar nalguns locais\, estando já previstas as seguintes sessões: \n\n4 de março\, Olhão\, 14h45\, Sala Polivalente da Biblioteca Municipal de Olhão.\nApoio CM Olhão e Biblioteca Municipal\n5 de março\, Setúbal\, 15h30\, Casa da Baía de Setúbal. Com a participação do Coro Mútua.\nApoio CM Setúbal e Associação Setubalpesca / integrado na iniciativa local “A vida por cima d’água”\nAbril\, Peniche (integrado nas celebrações do 25 de Abril)\nMaio/Junho\, Vila do Conde (integrado nas celebrações do Dia do Pescador)\nJulho\, Nazaré\, durante a Feira do Livro\nOutubro\, Sines\nNovembro\, Sesimbra (integrado nas celebrações do Dia Nacional do Mar)\n\nAlgumas destas sessões serão integradas em iniciativas mais amplas\, que contarão com o espetáculo “Maré”\, criado pela cooperativa cultural Sons Vadios para assinalar os 80 anos da Mútua\, estreado na sessão de encerramento\, em novembro. Também o Coro Mútua participará nalguns momentos. \nAcompanhe no nosso site e Facebook! \nO Livro será distribuído pela Editora Âncora\, esteja atento!\nhttps://www.ancora-editora.pt/ \nFicha técnica\nEdição: Mútua dos Pescadores\nConceção: Abel Coentrão e Helder Luís\nTexto: Abel Coentrão\nFotografias e design gráfico: Helder Luís\nRevisão: Mário Azevedo\nProdução: Abel Coentrão e Mútua dos Pescadores\nImpressão e acabamentos: Norprint – a casa do Livro\nDistribuição: Âncora Editora\n Download Brochura
URL:https://www.mutuapescadores.pt/event/apresentacao-do-livro-na-lingua-da-mare-2/
CATEGORIES:Eventos
ATTACH;FMTTYPE=image/jpeg:https://www.mutuapescadores.pt/wp-content/uploads/2023/02/Na-lingua-da-mare-Livro-Capa.jpg
END:VEVENT
BEGIN:VEVENT
DTSTART;TZID=Europe/Lisbon:20230326T093000
DTEND;TZID=Europe/Lisbon:20230326T130000
DTSTAMP:20260421T111428
CREATED:20230509T134450Z
LAST-MODIFIED:20230509T134450Z
UID:13256-1679823000-1679835600@www.mutuapescadores.pt
SUMMARY:Assembleia geral da Mútua 26 de março\, Lisboa
DESCRIPTION:No dia 26 de março irá decorrer a Assembleia geral da Mútua. Como tal\, convocam-se os cooperadores para um momento de discussão dos documentos de gestão da cooperativa e outros assuntos de interesse. A Assembleia terá lugar no hotel VIP Zurique\, na Rua Ivone Silva nº18\, em Lisboa\, pelas 09h30\, com a seguinte ordem de trabalhos: \n\nDiscussão e deliberação sobre o Relatório de Gestão\, documentos de Prestação de Contas\, parecer do Conselho Fiscal e respetivas conclusões\, referentes ao exercício de 2022\, incluindo a forma de aplicação dos resultados.\nDiscussão e deliberação sobre a proposta de aplicação do Fundo de Reserva para a educação cooperativa e formação cultural e técnica dos cooperadores\, trabalhadores e comunidade.\nDiscussão e deliberação sobre o Relatório de Avaliação da Política de Remuneração.\nOutros assuntos relevantes.\n\n\nApelamos à presença de todos os cooperadores e trabalhadores da Mútua dos Pescadores para a sua participação nesta primeira Assembleia de 2023. \n\n DOWNLOAD  CONVOCATÓRIA
URL:https://www.mutuapescadores.pt/event/assembleia-geral-da-mutua-26-de-marco-lisboa/
CATEGORIES:Eventos
END:VEVENT
END:VCALENDAR